BEGIN:VCALENDAR
VERSION:2.0
PRODID:-//Onderwatergroep Neptunus//NONSGML kigkonsult.se iCalcreator 2.30.
 10//
CALSCALE:GREGORIAN
METHOD:PUBLISH
UID:48447063-81a9-46d0-abed-0ba7a49c6702
X-WR-CALNAME:iCagenda
X-WR-CALDESC:Event Management Extension for Joomla!
X-WR-RELCALID:3E26604A-50F4-4449-8B3E-E4F4932D05B5
X-WR-TIMEZONE:Europe/Amsterdam
BEGIN:VTIMEZONE
TZID:Europe/Amsterdam
BEGIN:STANDARD
TZNAME:CET
DTSTART:20241027T030000
TZOFFSETFROM:+0200
TZOFFSETTO:+0100
RDATE:20251026T030000
RDATE:20261025T030000
END:STANDARD
BEGIN:DAYLIGHT
TZNAME:CEST
DTSTART:20250330T020000
TZOFFSETFROM:+0100
TZOFFSETTO:+0200
RDATE:20260329T020000
RDATE:20270328T020000
END:DAYLIGHT
END:VTIMEZONE
BEGIN:VEVENT
UID:a0851d46-7742-419f-8405-4f3bc302f7f5
DTSTAMP:20260419T182346Z
CATEGORIES:Training Belangrijk
CLASS:PUBLIC
DESCRIPTION:
DTSTART:20251018T150000Z
DTEND:20251018T160000Z
GEO:00;0
LOCATION:
ORGANIZER:
SEQUENCE:1
SUMMARY:training 50m sportbad\, introducees welkom!
TRANSP:OPAQUE
URL:https://owg-neptunus.nl/index.php/component/icagenda/927-training-50m-s
 portbad-introducees-welkom?Itemid=101
END:VEVENT
END:VCALENDAR
