BEGIN:VCALENDAR
VERSION:2.0
PRODID:-//Onderwatergroep Neptunus//NONSGML kigkonsult.se iCalcreator 2.30.
 10//
CALSCALE:GREGORIAN
METHOD:PUBLISH
UID:d5b011ad-a3e3-4835-b624-cd9f2924eb05
X-WR-CALNAME:iCagenda
X-WR-CALDESC:Event Management Extension for Joomla!
X-WR-RELCALID:3E26604A-50F4-4449-8B3E-E4F4932D05B5
X-WR-TIMEZONE:Europe/Amsterdam
BEGIN:VTIMEZONE
TZID:Europe/Amsterdam
BEGIN:STANDARD
TZNAME:CET
DTSTART:20241027T030000
TZOFFSETFROM:+0200
TZOFFSETTO:+0100
RDATE:20251026T030000
RDATE:20261025T030000
END:STANDARD
BEGIN:DAYLIGHT
TZNAME:CEST
DTSTART:20250330T020000
TZOFFSETFROM:+0100
TZOFFSETTO:+0200
RDATE:20260329T020000
RDATE:20270328T020000
END:DAYLIGHT
END:VTIMEZONE
BEGIN:VEVENT
UID:37f7d8d4-a2d2-48ae-8cad-8679c89cfd95
DTSTAMP:20260419T182349Z
CATEGORIES:Dive World
CLASS:PUBLIC
DESCRIPTION:
DTSTART:20251003T170000Z
DTEND:20251003T190000Z
GEO:00;0
LOCATION:Diveworld
ORGANIZER:
SEQUENCE:1
SUMMARY:training duiktoren Diveworld
TRANSP:OPAQUE
URL:https://owg-neptunus.nl/index.php/component/icagenda/925-training-duikt
 oren-diveworld?Itemid=101
END:VEVENT
END:VCALENDAR
