BEGIN:VCALENDAR
VERSION:2.0
PRODID:-//Onderwatergroep Neptunus//NONSGML kigkonsult.se iCalcreator 2.30.
 10//
CALSCALE:GREGORIAN
METHOD:PUBLISH
UID:3eaaee97-d84e-444b-bace-bdf32c56a807
X-WR-CALNAME:iCagenda
X-WR-CALDESC:Event Management Extension for Joomla!
X-WR-RELCALID:3E26604A-50F4-4449-8B3E-E4F4932D05B5
X-WR-TIMEZONE:Europe/Amsterdam
BEGIN:VTIMEZONE
TZID:Europe/Amsterdam
BEGIN:STANDARD
TZNAME:CET
DTSTART:20241027T030000
TZOFFSETFROM:+0200
TZOFFSETTO:+0100
RDATE:20251026T030000
RDATE:20261025T030000
END:STANDARD
BEGIN:DAYLIGHT
TZNAME:CEST
DTSTART:20250330T020000
TZOFFSETFROM:+0100
TZOFFSETTO:+0200
RDATE:20260329T020000
END:DAYLIGHT
END:VTIMEZONE
BEGIN:VEVENT
UID:b5e58a68-5c33-431c-a99c-28bbb093f59c
DTSTAMP:20260421T101630Z
CATEGORIES:Doelgroepenbad
CLASS:PUBLIC
DESCRIPTION:
DTSTART:20250830T150000Z
DTEND:20250830T160000Z
GEO:00;0
LOCATION:Twentebad: Lage Weide 3-5\, 7556 NA Hengelo\, Nederland
ORGANIZER:
SEQUENCE:1
SUMMARY:training doelgroepenbad
TRANSP:OPAQUE
URL:https://owg-neptunus.nl/index.php/component/icagenda/920-training-doelg
 roepenbad-3?Itemid=101
END:VEVENT
END:VCALENDAR
