BEGIN:VCALENDAR
VERSION:2.0
PRODID:-//Onderwatergroep Neptunus//NONSGML kigkonsult.se iCalcreator 2.30.
 10//
CALSCALE:GREGORIAN
METHOD:PUBLISH
UID:091d68b6-df25-4145-b4d3-8876d36e02fd
X-WR-CALNAME:iCagenda
X-WR-CALDESC:Event Management Extension for Joomla!
X-WR-RELCALID:3E26604A-50F4-4449-8B3E-E4F4932D05B5
X-WR-TIMEZONE:Europe/Amsterdam
BEGIN:VTIMEZONE
TZID:Europe/Amsterdam
BEGIN:STANDARD
TZNAME:CET
DTSTART:20241027T030000
TZOFFSETFROM:+0200
TZOFFSETTO:+0100
RDATE:20251026T030000
RDATE:20261025T030000
END:STANDARD
BEGIN:DAYLIGHT
TZNAME:CEST
DTSTART:20250330T020000
TZOFFSETFROM:+0100
TZOFFSETTO:+0200
RDATE:20260329T020000
END:DAYLIGHT
END:VTIMEZONE
BEGIN:VEVENT
UID:d2c6a9e4-2498-4f41-8362-320c06c1e944
DTSTAMP:20260419T182349Z
CATEGORIES:Duiken
CLASS:PUBLIC
DESCRIPTION:
DTSTART:20250907T080000Z
DTEND:20250907T185600Z
GEO:00;0
LOCATION:
ORGANIZER:
SEQUENCE:1
SUMMARY:de Beldert\, Zoelen
TRANSP:OPAQUE
URL:https://owg-neptunus.nl/index.php/component/icagenda/911-de-beldert-zoe
 len?Itemid=101
END:VEVENT
END:VCALENDAR
