BEGIN:VCALENDAR
VERSION:2.0
PRODID:-//Onderwatergroep Neptunus//NONSGML kigkonsult.se iCalcreator 2.30.
 10//
CALSCALE:GREGORIAN
METHOD:PUBLISH
UID:3bdee56a-fbd9-4517-8847-d59b9cf542f5
X-WR-CALNAME:iCagenda
X-WR-CALDESC:Event Management Extension for Joomla!
X-WR-RELCALID:3E26604A-50F4-4449-8B3E-E4F4932D05B5
X-WR-TIMEZONE:Europe/Amsterdam
BEGIN:VTIMEZONE
TZID:Europe/Amsterdam
BEGIN:STANDARD
TZNAME:CET
DTSTART:20241027T030000
TZOFFSETFROM:+0200
TZOFFSETTO:+0100
RDATE:20251026T030000
RDATE:20261025T030000
END:STANDARD
BEGIN:DAYLIGHT
TZNAME:CEST
DTSTART:20250330T020000
TZOFFSETFROM:+0100
TZOFFSETTO:+0200
RDATE:20260329T020000
RDATE:20270328T020000
END:DAYLIGHT
END:VTIMEZONE
BEGIN:VEVENT
UID:68091b77-b445-427b-9586-486e8e3338c9
DTSTAMP:20260419T201213Z
CATEGORIES:Evenementen
CLASS:PUBLIC
DESCRIPTION;ALTREP="CID:<FFFF__=0ABBE548DFE235B58f9e8a93d@coffeebean.com>":
 65-jarig jubileumfeest.Dit feest staat gepland op zondagmiddag 12 oktober 
 2025 vanaf 15.00. We treffen elkaar weer in het gebouwtje ‘De Samenloop’ a
 an het Bartelingslaantje te Hengelo. In de volgende nieuwsbrieven worden j
 ullie geïnformeerd wat het organisatiecomité heeft bedacht.Noteer deze dat
 um alvast in jullie agenda!!!
DTSTART:20251012T130000Z
DTEND:20251012T180800Z
GEO:00;0
LOCATION:Bartelinkslaantje Hengelo
ORGANIZER:
SEQUENCE:1
SUMMARY:Jaarfeest Neptunus 12-okt 2025
TRANSP:OPAQUE
URL:https://owg-neptunus.nl/index.php/component/icagenda/908-jaarfeest-nept
 unus-12-okt-2025?Itemid=101
END:VEVENT
END:VCALENDAR
