BEGIN:VCALENDAR
VERSION:2.0
PRODID:-//Onderwatergroep Neptunus//NONSGML kigkonsult.se iCalcreator 2.30.
 10//
CALSCALE:GREGORIAN
METHOD:PUBLISH
UID:db565f28-92d2-42fa-aa9e-2532602f0233
X-WR-CALNAME:iCagenda
X-WR-CALDESC:Event Management Extension for Joomla!
X-WR-RELCALID:3E26604A-50F4-4449-8B3E-E4F4932D05B5
X-WR-TIMEZONE:Europe/Amsterdam
BEGIN:VTIMEZONE
TZID:Europe/Amsterdam
BEGIN:STANDARD
TZNAME:CET
DTSTART:20231029T030000
TZOFFSETFROM:+0200
TZOFFSETTO:+0100
RDATE:20241027T030000
RDATE:20251026T030000
END:STANDARD
BEGIN:DAYLIGHT
TZNAME:CEST
DTSTART:20240331T020000
TZOFFSETFROM:+0100
TZOFFSETTO:+0200
RDATE:20250330T020000
END:DAYLIGHT
END:VTIMEZONE
BEGIN:VEVENT
UID:51494667-7e7b-4477-8722-8af5041abb32
DTSTAMP:20260419T201917Z
CATEGORIES:Evenementen
CLASS:PUBLIC
DESCRIPTION;ALTREP="CID:<FFFF__=0ABBE548DFE235B58f9e8a93d@coffeebean.com>":
 Hallo allemaal\,Ons jaarfeest komt snel naderbij.Tijd om iets meer bekend 
 te maken wat de bedoeling is. Misschien denken jullie dat duurt nog 3 maan
 den\, maar voor je weet is het zover.Het thema op 22 september is “OKTOBER
 FESTEN”.Er zijn genoeg leuke dingen te verzinnen.In ieder geval is het leu
 k om de meest originele kleding te dragen. Heren een leuke lederhose dames
  een leuke dirndl.Wij laten ons verrassen en gaan jullie verrassen met een
  hele gezellige middag/avond.  Tijd van 15.00 tot 20.00 uur. Locatie: de S
 amenloop aan het Bartelinkslaantje te Hengelo.
DTSTART:20240922T130000Z
DTEND:20240922T180000Z
GEO:00;0
LOCATION:
ORGANIZER:
SEQUENCE:1
SUMMARY:Jaarfeest Neptunus 22 september 2024
TRANSP:OPAQUE
URL:https://owg-neptunus.nl/index.php/component/icagenda/854-jaarfeest-nept
 unus-22-september-2024?Itemid=101
END:VEVENT
END:VCALENDAR
