BEGIN:VCALENDAR
VERSION:2.0
PRODID:-//Onderwatergroep Neptunus//NONSGML kigkonsult.se iCalcreator 2.30.
 10//
CALSCALE:GREGORIAN
METHOD:PUBLISH
UID:99844fd4-41b1-4824-a019-5aa9a7e939b3
X-WR-CALNAME:iCagenda
X-WR-CALDESC:Event Management Extension for Joomla!
X-WR-RELCALID:3E26604A-50F4-4449-8B3E-E4F4932D05B5
X-WR-TIMEZONE:Europe/Amsterdam
BEGIN:VTIMEZONE
TZID:Europe/Amsterdam
BEGIN:STANDARD
TZNAME:CET
DTSTART:20231029T030000
TZOFFSETFROM:+0200
TZOFFSETTO:+0100
RDATE:20241027T030000
RDATE:20251026T030000
END:STANDARD
BEGIN:DAYLIGHT
TZNAME:CEST
DTSTART:20240331T020000
TZOFFSETFROM:+0100
TZOFFSETTO:+0200
RDATE:20250330T020000
RDATE:20260329T020000
END:DAYLIGHT
END:VTIMEZONE
BEGIN:VEVENT
UID:9abf99d3-d7c1-4e39-bffc-8d012d2e5065
DTSTAMP:20260419T201753Z
CATEGORIES:Dive World
CLASS:PUBLIC
DESCRIPTION:
DTSTART:20241004T170000Z
DTEND:20241004T190000Z
GEO:00;0
LOCATION:Diveworld\, Colosseum 72\, 7521 PT Enschede
ORGANIZER:
SEQUENCE:1
SUMMARY:Duiktraining Diveworld
TRANSP:OPAQUE
URL:https://owg-neptunus.nl/index.php/component/icagenda/848-duiktraining-d
 iveworld?Itemid=101
END:VEVENT
END:VCALENDAR
