BEGIN:VCALENDAR
VERSION:2.0
PRODID:-//Onderwatergroep Neptunus//NONSGML kigkonsult.se iCalcreator 2.30.
 10//
CALSCALE:GREGORIAN
METHOD:PUBLISH
UID:b7321218-43b8-4c61-af07-c15a2585295a
X-WR-CALNAME:iCagenda
X-WR-CALDESC:Event Management Extension for Joomla!
X-WR-RELCALID:3E26604A-50F4-4449-8B3E-E4F4932D05B5
X-WR-TIMEZONE:Europe/Amsterdam
BEGIN:VTIMEZONE
TZID:Europe/Amsterdam
BEGIN:STANDARD
TZNAME:CET
DTSTART:20231029T030000
TZOFFSETFROM:+0200
TZOFFSETTO:+0100
RDATE:20241027T030000
RDATE:20251026T030000
END:STANDARD
BEGIN:DAYLIGHT
TZNAME:CEST
DTSTART:20240331T020000
TZOFFSETFROM:+0100
TZOFFSETTO:+0200
RDATE:20250330T020000
RDATE:20260329T020000
END:DAYLIGHT
END:VTIMEZONE
BEGIN:VEVENT
UID:4aa3175b-c28d-4b9f-b6a7-4e88cf62e586
DTSTAMP:20260419T213406Z
CATEGORIES:Duiken
CLASS:PUBLIC
DESCRIPTION:
DTSTART:20241027T090000Z
DTEND:20241027T113000Z
GEO:00;0
LOCATION:Grasbroekweg 1\, 7627 RC Bornerbroek
ORGANIZER:
SEQUENCE:1
SUMMARY:Buitenduik Grasbroek\; laatste buitenduik seizoen 2024
TRANSP:OPAQUE
URL:https://owg-neptunus.nl/index.php/component/icagenda/846-buitenduik-gra
 sbroek-13?Itemid=101
END:VEVENT
END:VCALENDAR
