BEGIN:VCALENDAR
VERSION:2.0
PRODID:-//Onderwatergroep Neptunus//NONSGML kigkonsult.se iCalcreator 2.30.
 10//
CALSCALE:GREGORIAN
METHOD:PUBLISH
UID:a59e1bc0-c5fc-49aa-8bfc-cc88ce83e99b
X-WR-CALNAME:iCagenda
X-WR-CALDESC:Event Management Extension for Joomla!
X-WR-RELCALID:3E26604A-50F4-4449-8B3E-E4F4932D05B5
X-WR-TIMEZONE:Europe/Amsterdam
BEGIN:VTIMEZONE
TZID:Europe/Amsterdam
BEGIN:STANDARD
TZNAME:CET
DTSTART:20231029T030000
TZOFFSETFROM:+0200
TZOFFSETTO:+0100
RDATE:20241027T030000
RDATE:20251026T030000
END:STANDARD
BEGIN:DAYLIGHT
TZNAME:CEST
DTSTART:20240331T020000
TZOFFSETFROM:+0100
TZOFFSETTO:+0200
RDATE:20250330T020000
RDATE:20260329T020000
END:DAYLIGHT
END:VTIMEZONE
BEGIN:VEVENT
UID:320b5f47-1504-4efa-9ce5-0a5d4a164669
DTSTAMP:20260419T201916Z
CATEGORIES:Duiken
CLASS:PUBLIC
DESCRIPTION:
DTSTART:20241013T080000Z
DTEND:20241013T103000Z
GEO:00;0
LOCATION:Bronsbergen 25\, 7207 AD Zutphen
ORGANIZER:
SEQUENCE:1
SUMMARY:Buitenduik Bronsbergenmeer
TRANSP:OPAQUE
URL:https://owg-neptunus.nl/index.php/component/icagenda/844-buitenduik-bro
 nsbergenmeer-11?Itemid=101
END:VEVENT
END:VCALENDAR
