BEGIN:VCALENDAR
VERSION:2.0
PRODID:-//Onderwatergroep Neptunus//NONSGML kigkonsult.se iCalcreator 2.30.
 10//
CALSCALE:GREGORIAN
METHOD:PUBLISH
UID:b607647b-942e-4460-8a94-9ac8f53242ef
X-WR-CALNAME:iCagenda
X-WR-CALDESC:Event Management Extension for Joomla!
X-WR-RELCALID:3E26604A-50F4-4449-8B3E-E4F4932D05B5
X-WR-TIMEZONE:Europe/Amsterdam
BEGIN:VTIMEZONE
TZID:Europe/Amsterdam
BEGIN:STANDARD
TZNAME:CET
DTSTART:20231029T030000
TZOFFSETFROM:+0200
TZOFFSETTO:+0100
RDATE:20241027T030000
RDATE:20251026T030000
END:STANDARD
BEGIN:DAYLIGHT
TZNAME:CEST
DTSTART:20240331T020000
TZOFFSETFROM:+0100
TZOFFSETTO:+0200
RDATE:20250330T020000
RDATE:20260329T020000
END:DAYLIGHT
END:VTIMEZONE
BEGIN:VEVENT
UID:c0eb2700-b6b5-4ebe-8f4f-0871c836ed7a
DTSTAMP:20260419T233458Z
CATEGORIES:Duiken
CLASS:PUBLIC
DESCRIPTION:
DTSTART:20240929T080000Z
DTEND:20240929T103000Z
GEO:00;0
LOCATION:Valburgsestraat 45\, Slijk-Ewijk
ORGANIZER:
SEQUENCE:1
SUMMARY:Buitenduik Slijk Ewijk
TRANSP:OPAQUE
URL:https://owg-neptunus.nl/index.php/component/icagenda/842-buitenduik-sli
 jk-ewijk-4?Itemid=101
END:VEVENT
END:VCALENDAR
