BEGIN:VCALENDAR
VERSION:2.0
PRODID:-//Onderwatergroep Neptunus//NONSGML kigkonsult.se iCalcreator 2.30.
 10//
CALSCALE:GREGORIAN
METHOD:PUBLISH
UID:bad50906-153f-474f-9496-fbcb7c8e27b9
X-WR-CALNAME:iCagenda
X-WR-CALDESC:Event Management Extension for Joomla!
X-WR-RELCALID:3E26604A-50F4-4449-8B3E-E4F4932D05B5
X-WR-TIMEZONE:Europe/Amsterdam
BEGIN:VTIMEZONE
TZID:Europe/Amsterdam
BEGIN:STANDARD
TZNAME:CET
DTSTART:20231029T030000
TZOFFSETFROM:+0200
TZOFFSETTO:+0100
RDATE:20241027T030000
RDATE:20251026T030000
END:STANDARD
BEGIN:DAYLIGHT
TZNAME:CEST
DTSTART:20240331T020000
TZOFFSETFROM:+0100
TZOFFSETTO:+0200
RDATE:20250330T020000
END:DAYLIGHT
END:VTIMEZONE
BEGIN:VEVENT
UID:6ad2b8e5-7778-4dd4-8cf5-75134e000484
DTSTAMP:20260419T233458Z
CATEGORIES:Duiken
CLASS:PUBLIC
DESCRIPTION:
DTSTART:20240908T080000Z
DTEND:20240908T103000Z
GEO:00;0
LOCATION:Zoelense Zandweg 1\, Zoelen / Tiel
ORGANIZER:
SEQUENCE:1
SUMMARY:Buitenduik De Beldert\, Zoelen
TRANSP:OPAQUE
URL:https://owg-neptunus.nl/index.php/component/icagenda/839-buitenduik-de-
 beldert-zoelen?Itemid=101
END:VEVENT
END:VCALENDAR
