BEGIN:VCALENDAR
VERSION:2.0
PRODID:-//Onderwatergroep Neptunus//NONSGML kigkonsult.se iCalcreator 2.30.
 10//
CALSCALE:GREGORIAN
METHOD:PUBLISH
UID:b460ad69-0712-4304-9bb1-8b8f0299d3c2
X-WR-CALNAME:iCagenda
X-WR-CALDESC:Event Management Extension for Joomla!
X-WR-RELCALID:3E26604A-50F4-4449-8B3E-E4F4932D05B5
X-WR-TIMEZONE:Europe/Amsterdam
BEGIN:VTIMEZONE
TZID:Europe/Amsterdam
BEGIN:STANDARD
TZNAME:CET
DTSTART:20231029T030000
TZOFFSETFROM:+0200
TZOFFSETTO:+0100
RDATE:20241027T030000
RDATE:20251026T030000
END:STANDARD
BEGIN:DAYLIGHT
TZNAME:CEST
DTSTART:20240331T020000
TZOFFSETFROM:+0100
TZOFFSETTO:+0200
RDATE:20250330T020000
END:DAYLIGHT
END:VTIMEZONE
BEGIN:VEVENT
UID:0a4666b2-7dad-4092-bc13-84573c126ea1
DTSTAMP:20260419T201215Z
CATEGORIES:Duiken
CLASS:PUBLIC
DESCRIPTION:
DTSTART:20240901T070000Z
DTEND:20240901T100000Z
GEO:00;0
LOCATION:Biener Strasse 15\, 49744 Geeste
ORGANIZER:
SEQUENCE:1
SUMMARY:Buitenduik Lingen
TRANSP:OPAQUE
URL:https://owg-neptunus.nl/index.php/component/icagenda/838-buitenduik-lin
 gen-5?Itemid=101
END:VEVENT
END:VCALENDAR
