BEGIN:VCALENDAR
VERSION:2.0
PRODID:-//Onderwatergroep Neptunus//NONSGML kigkonsult.se iCalcreator 2.30.
 10//
CALSCALE:GREGORIAN
METHOD:PUBLISH
UID:e92d76ce-7b46-42df-b421-2dcb905c94c7
X-WR-CALNAME:iCagenda
X-WR-CALDESC:Event Management Extension for Joomla!
X-WR-RELCALID:3E26604A-50F4-4449-8B3E-E4F4932D05B5
X-WR-TIMEZONE:Europe/Amsterdam
BEGIN:VTIMEZONE
TZID:Europe/Amsterdam
BEGIN:STANDARD
TZNAME:CET
DTSTART:20231029T030000
TZOFFSETFROM:+0200
TZOFFSETTO:+0100
RDATE:20241027T030000
RDATE:20251026T030000
END:STANDARD
BEGIN:DAYLIGHT
TZNAME:CEST
DTSTART:20240331T020000
TZOFFSETFROM:+0100
TZOFFSETTO:+0200
RDATE:20250330T020000
END:DAYLIGHT
END:VTIMEZONE
BEGIN:VEVENT
UID:176dbc61-ea1d-472f-a99d-c7c04d494180
DTSTAMP:20260419T233457Z
CATEGORIES:Doelgroepenbad
CLASS:PUBLIC
DESCRIPTION:
DTSTART:20240921T150000Z
DTEND:20240921T160000Z
GEO:00;0
LOCATION:Twentebad\, Lageweide 3\, Hengeloi
ORGANIZER:
SEQUENCE:1
SUMMARY:Snorkel- en conditietraining\; tevens vrije training
TRANSP:OPAQUE
URL:https://owg-neptunus.nl/index.php/component/icagenda/836-snorkel-en-con
 ditietraining-tevens-vrije-training-15?Itemid=101
END:VEVENT
END:VCALENDAR
