BEGIN:VCALENDAR
VERSION:2.0
PRODID:-//Onderwatergroep Neptunus//NONSGML kigkonsult.se iCalcreator 2.30.
 10//
CALSCALE:GREGORIAN
METHOD:PUBLISH
UID:16bbae07-1b2b-4f29-82f2-e3f38d448400
X-WR-CALNAME:iCagenda
X-WR-CALDESC:Event Management Extension for Joomla!
X-WR-RELCALID:3E26604A-50F4-4449-8B3E-E4F4932D05B5
X-WR-TIMEZONE:Europe/Amsterdam
BEGIN:VTIMEZONE
TZID:Europe/Amsterdam
BEGIN:STANDARD
TZNAME:CET
DTSTART:20231029T030000
TZOFFSETFROM:+0200
TZOFFSETTO:+0100
RDATE:20241027T030000
RDATE:20251026T030000
END:STANDARD
BEGIN:DAYLIGHT
TZNAME:CEST
DTSTART:20240331T020000
TZOFFSETFROM:+0100
TZOFFSETTO:+0200
RDATE:20250330T020000
END:DAYLIGHT
END:VTIMEZONE
BEGIN:VEVENT
UID:c82e06ee-0b2c-4aa1-b4e1-5d3d6e75e216
DTSTAMP:20260421T085644Z
CATEGORIES:Duiken
CLASS:PUBLIC
DESCRIPTION:
DTSTART:20240602T070000Z
DTEND:20240602T100000Z
GEO:00;0
LOCATION:Speicherbecken Lingen\,Geeser See
ORGANIZER:
SEQUENCE:1
SUMMARY:Buitenduik Lingen
TRANSP:OPAQUE
URL:https://owg-neptunus.nl/index.php/component/icagenda/825-buitenduik-bro
 nsbergenmeer-noord-4?Itemid=101
END:VEVENT
END:VCALENDAR
