BEGIN:VCALENDAR
VERSION:2.0
PRODID:-//Onderwatergroep Neptunus//NONSGML kigkonsult.se iCalcreator 2.30.
 10//
CALSCALE:GREGORIAN
METHOD:PUBLISH
UID:6c1a728a-a61a-48cf-8ca9-0fcef9a583bd
X-WR-CALNAME:iCagenda
X-WR-CALDESC:Event Management Extension for Joomla!
X-WR-RELCALID:3E26604A-50F4-4449-8B3E-E4F4932D05B5
X-WR-TIMEZONE:Europe/Amsterdam
BEGIN:VTIMEZONE
TZID:Europe/Amsterdam
BEGIN:STANDARD
TZNAME:CET
DTSTART:20231029T030000
TZOFFSETFROM:+0200
TZOFFSETTO:+0100
RDATE:20241027T030000
RDATE:20251026T030000
END:STANDARD
BEGIN:DAYLIGHT
TZNAME:CEST
DTSTART:20240331T020000
TZOFFSETFROM:+0100
TZOFFSETTO:+0200
RDATE:20250330T020000
END:DAYLIGHT
END:VTIMEZONE
BEGIN:VEVENT
UID:6d428830-9066-486a-87b1-590d4c774bbe
DTSTAMP:20260421T143648Z
CATEGORIES:Duiken
CLASS:PUBLIC
DESCRIPTION:
DTSTART:20240512T070000Z
DTEND:20240512T100000Z
GEO:00;0
LOCATION:Speicherbecken Lingen\,Geeser See
ORGANIZER:
SEQUENCE:1
SUMMARY:Buitenduik Lingen (Geeste)
TRANSP:OPAQUE
URL:https://owg-neptunus.nl/index.php/component/icagenda/823-buitenduik-lin
 gen-geeste-3?Itemid=101
END:VEVENT
END:VCALENDAR
