BEGIN:VCALENDAR
VERSION:2.0
PRODID:-//Onderwatergroep Neptunus//NONSGML kigkonsult.se iCalcreator 2.30.
 10//
CALSCALE:GREGORIAN
METHOD:PUBLISH
UID:312bcf61-2948-4b6a-8e8e-30e989b10c6d
X-WR-CALNAME:iCagenda
X-WR-CALDESC:Event Management Extension for Joomla!
X-WR-RELCALID:3E26604A-50F4-4449-8B3E-E4F4932D05B5
X-WR-TIMEZONE:Europe/Amsterdam
BEGIN:VTIMEZONE
TZID:Europe/Amsterdam
BEGIN:STANDARD
TZNAME:CET
DTSTART:20231029T030000
TZOFFSETFROM:+0200
TZOFFSETTO:+0100
RDATE:20241027T030000
RDATE:20251026T030000
END:STANDARD
BEGIN:DAYLIGHT
TZNAME:CEST
DTSTART:20240331T020000
TZOFFSETFROM:+0100
TZOFFSETTO:+0200
RDATE:20250330T020000
END:DAYLIGHT
END:VTIMEZONE
BEGIN:VEVENT
UID:8a150ecb-16bd-4d00-8217-fed376b0bafd
DTSTAMP:20260421T085645Z
CATEGORIES:Bestuur
CLASS:PUBLIC
DESCRIPTION:
DTSTART:20240614T112900Z
DTEND:20240616T160000Z
GEO:00;0
LOCATION:Camping De Witte Boulevard in Renesse.
ORGANIZER:
SEQUENCE:1
SUMMARY:Zeelandweekend Onderwatergroep Neptunus
TRANSP:OPAQUE
URL:https://owg-neptunus.nl/index.php/component/icagenda/817-zeelandweekend
 -onderwatergroep-neptunus?Itemid=101
END:VEVENT
END:VCALENDAR
