BEGIN:VCALENDAR
VERSION:2.0
PRODID:-//Onderwatergroep Neptunus//NONSGML kigkonsult.se iCalcreator 2.30.
 10//
CALSCALE:GREGORIAN
METHOD:PUBLISH
UID:1c907ee3-8bc5-4091-89c5-c8d76f405882
X-WR-CALNAME:iCagenda
X-WR-CALDESC:Event Management Extension for Joomla!
X-WR-RELCALID:3E26604A-50F4-4449-8B3E-E4F4932D05B5
X-WR-TIMEZONE:Europe/Amsterdam
BEGIN:VTIMEZONE
TZID:Europe/Amsterdam
BEGIN:STANDARD
TZNAME:CET
DTSTART:20231029T030000
TZOFFSETFROM:+0200
TZOFFSETTO:+0100
RDATE:20241027T030000
RDATE:20251026T030000
END:STANDARD
BEGIN:DAYLIGHT
TZNAME:CEST
DTSTART:20240331T020000
TZOFFSETFROM:+0100
TZOFFSETTO:+0200
RDATE:20250330T020000
END:DAYLIGHT
END:VTIMEZONE
BEGIN:VEVENT
UID:4430b720-0202-4056-a4d6-39a4765e4702
DTSTAMP:20260419T201917Z
CATEGORIES:Evenementen
CLASS:PUBLIC
DESCRIPTION;ALTREP="CID:<FFFF__=0ABBE548DFE235B58f9e8a93d@coffeebean.com>":
 Beste duikvrienden\,Ook dit jaar organiseren we een leuke duikreis die voo
 r iedereen aantrekkelijk kan zijn.Ons voorstel is om van 6 tot 13 septembe
 r 2024 te gaan duiken rondom de Medes Eilanden. Dit beschermde duikgebied 
 ligt bij de plaats L' Estartit in Spanje.In de beginjaren van Neptunus gin
 g de vereniging hier regelmatig naar toe. We vinden het leuk om deze ervar
 ing nog eens met jullie te delen. Ook leden met een 1* brevet kunnen mooie
  ervaring opdoen bij deze duikreis.Reisbureau Diving World Nederland heeft
  recentelijk een optie hiervoor aangeboden.Samengevat bestaat deze optie u
 it:\n\nretourvlucht Rotterdam – Gerona (en airport transfer)\n7 nachten Ho
 tel Les Illes verblijf in een 2-persoonskamer o.b.v. volpension (n.b. half
 pension is niet mogelijk)\n10 duiken per persoon: dit bestaat uit 2 bootdu
 iken per dag\, tanks\, lucht\, lood en diensten van een duikgids.\nKosten 
 : € 1.145\,- per persoon\n\nHieronder de mail van Diving World Nederland m
 et alle relevante informatie.Uiteraard moeten we een voorbehoud maken omda
 t we voldoende deelnemers moeten hebben zodat we een definitieve reserveri
 ng kunnen doen .Als je belangstelling voor deze reis hebt\, horen we dat g
 raag uiterlijk vóór 1 februari 2024. Dit kun je aangeven bij René Bijkerk 
 (hpjbijkerk@caiway.nl) en/of Paul Horsthuis (paul@horsthuis.nl). Uiteraard
  kun je ook met vragen bij ons terecht. Met hartelijke groet\, René Bijker
 k en Paul Horsthuis.  ----------------------------------------------------
 ----------------------------- De onderstaande reis valt onder de garanties
  van de ANVR\, SGR &amp\; het Calamiteitenfonds. De 3 belangrijkste bouwst
 enen voor een onbezorgde reis. Eerlijke voorwaarden\, uw geld in goede han
 den en zekerheid. Gegarandeerd de beste prijsgarantie mét ANVR\, SGR &amp\
 ; Calamiteitenfondsdekking. Met Diving World gaat u ZEKER op reis! Belangr
 ijk:Om goed verzekerd op reis te gaan\, adviseren wij met klem om een verz
 ekering af te sluiten. Het gaat er dan vooral om dat corona gerelateerde z
 aken worden vergoed. Wij werken hierin samen met Allianz Assistance\, zij 
 bieden een goede dekking voor reizen naar diverse bestemmingen. Deze verze
 kering kan uiteraard bij boeking worden afgesloten. Coronavirus | Allianz 
 Global Assistance (allianz-assistance.nl)   Een wijziging in het reisadvie
 s van een bepaalde bestemming betekent niet dat wij automatisch reizen naa
 r deze bestemming annuleren. Wij zullen in zo’n situatie beoordelen of rei
 zen naar deze bestemming veilig en verantwoord kan en op basis daarvan bes
 luiten of de reis kan doorgaan. Om dezelfde reden is er niet automatisch r
 echt op zelf kosteloos annuleren. De reguliere annuleringsvoorwaarden zijn
  dan van toepassing. Hiervoor verwijzen wij naar onze (aanvullende) reisvo
 orwaarden (Aanvullende reisvoorwaarden Diving World). Mochten wij als reis
 organisatie de reis niet kunnen uitvoeren zal de betaalde reissom worden g
 erestitueerd. Reservering van de reis: U kunt de onderstaande reis reserve
 ren via de volgende link: Boek je duikvakantie bij Diving World!. Als u on
 derstaande offerte in het opmerking veld van het formulier plakt en de geg
 evens van de reizigers invult\, kunnen wij de reis voor u vastleggen.Na he
 t invullen van dit formulier ontvangt u direct per e-mail een kopie van he
 t door u ingevulde boekingsformulier. Bewaar deze goed! Heeft u geen kopie
  ontvangen? Neem dan zo spoedig mogelijk contact met ons op.Prijzen &amp\;
  beschikbaarheid zijn onder voorbehoud van wijziging\, bij interesse raden
  wij u aan om een vrijblijvende optie aan te vragen op de reis (indien mog
 elijk)\, daar er nog niks in optie staat op het moment. De onderstaande of
 ferte is gebaseerd op de real time prijzen &amp\; beschikbaarheid op het m
 oment van offreren. Vluchtgegevens Transavia (onder voorbehoud):06 Septemb
 er Rotterdam Girona 12:30 14:2013 September Girona Rotterdam 15:00 16:55 P
 RIJZEN :  7 nachten Hotel Les Illes verblijf in een 2-persoonskamer o.b.v.
  volpension - INCLUSIEF 10 DUIKEN PER PERSOON Reissom aankomst 06 Septembe
 r: € 1.145\,- per persoon Duikpakket Duikuitrusting is niet in het duikpak
 ket inbegrepen\, ook kunnen er extra toeslagen van toepassing zijn voor sp
 eciale duikstekken of duiken. Mocht je hier meer informatie over willen\, 
 dan kun je dit te allen tijde vrijblijvend bij ons opvragen. 10 duiken – I
 NBEGREPEN IN DE BOVENSTAANDE PRIJSInbegrepen: 2 bootduiken per dag\, tanks
 \, lucht\, lood en diensten van een duikgids. Inbegrepen:\n\nRetourvluchte
 n\nAirport transfers\n7 nachten verblijf op basis van volpension ( Dag van
  aankomst alleen accommodatie &amp\; dag van vertrek alleen ontbijt)\n10 d
 uiken per persoon\nDiensten van onze lokale agent\nZekerheid van een ANVR\
 , SGR &amp\; ook Calamiteitenfonds aangesloten bedrijf \n€ 25 klantenkorti
 ng op een volgende reis (zie voorwaarden klantenkorting)\n\n Niet inbegrep
 en:\n\n€ 2\,50 calamiteitenfonds (per 9 personen)\n€ 15 administratiekoste
 n per boekingsformulier\neventueel af te sluiten reis-\, duik- en/of annul
 eringsverzekering indien gewenst\n€5\,- per persoon SGR bijdrage\n\n Koste
 n ter plaatse:\n\nevt. rifbelastingen / brandstoftoeslagen\n\nevt. fooien
DTSTART:20240906T052600Z
DTEND:20240913T092600Z
GEO:00;0
LOCATION:L 'Estartit Spanje
ORGANIZER:
SEQUENCE:1
SUMMARY:Uitnodiging evenement duikreis Medes eilanden\; L 'Estartit Spanje
TRANSP:OPAQUE
URL:https://owg-neptunus.nl/index.php/component/icagenda/815-duikevenement-
 neptunus-medes-eilanden-spanje?Itemid=101
END:VEVENT
END:VCALENDAR
