BEGIN:VCALENDAR
VERSION:2.0
PRODID:-//Onderwatergroep Neptunus//NONSGML kigkonsult.se iCalcreator 2.30.
 10//
CALSCALE:GREGORIAN
METHOD:PUBLISH
UID:612b61df-28c9-48ee-9e5c-11479bcd9047
X-WR-CALNAME:iCagenda
X-WR-CALDESC:Event Management Extension for Joomla!
X-WR-RELCALID:3E26604A-50F4-4449-8B3E-E4F4932D05B5
X-WR-TIMEZONE:Europe/Amsterdam
BEGIN:VTIMEZONE
TZID:Europe/Amsterdam
BEGIN:STANDARD
TZNAME:CET
DTSTART:20221030T030000
TZOFFSETFROM:+0200
TZOFFSETTO:+0100
RDATE:20231029T030000
RDATE:20241027T030000
END:STANDARD
BEGIN:DAYLIGHT
TZNAME:CEST
DTSTART:20230326T020000
TZOFFSETFROM:+0100
TZOFFSETTO:+0200
RDATE:20240331T020000
RDATE:20250330T020000
END:DAYLIGHT
END:VTIMEZONE
BEGIN:VEVENT
UID:d86562af-b3f8-4663-aafa-29aee42fad42
DTSTAMP:20260419T214122Z
CATEGORIES:Duiken
CLASS:PUBLIC
DESCRIPTION;ALTREP="CID:<FFFF__=0ABBE548DFE235B58f9e8a93d@coffeebean.com>":
 \nSPEICHERBECKEN\nDuitsland\n 283 Logberichten\n \nMakkelijke duikplaats\n
 \n\nSpeicherbecken is een kunstmatig aangelegd waterbassin met een inhoud 
 van 23\,4 miljoen m3. Hoewel de biodiversiteit in Speicherbecken niet groo
 t is\, zwemt er aardig wat vis. Vooral 's avonds wemelt het hier van de pa
 ling! Toch zie je ook andere soorten\, zoals baarzen en snoekbaarzen. Er l
 iggen ook diverse objecten zoals wrakjes\, oude bomen en buizen.\nKenmerke
 n SPEICHERBECKEN\n\nBijnamen\nSpeicherbecken Lingen\,Geeser See\nAdres\nBi
 ener Strasse 15\, 49744 Geeste\nParkeren\nVoldoende parkeergelegenheid\n\n
 \n\nAfstand\n50 m.\nGeschikt voor\nGroepen\, oefenduiken (diverse plaforme
 n en voldoende faciliteiten)\, alle niveaus\nVergunning\nN.v.t / NA\nToega
 ng\nVrij toegang gastduikers verplicht melden via wwwtauchclub-hydra-linge
 nde bevestigingsmail zichtbaar op je dashboard leggen duikscholen betalen 
 een duiktarief\nFaciliteiten\nKoudwaterdouche\, restaurant\, toiletten\nWa
 tersoort\nZoet\nDuiksoort\nKantduik\nStroming\nGeen\nZicht\n1 - 7 m.\nZich
 t gemiddeld\n4 m.\nDiepte\n5 m.\nBodem\nkiezelzand en zand\nLeven\nBaars\,
  blankvoorn\, fonteinkruid\, mossel\, paling\, snoek\, snoekbaars\n\n\n
DTSTART:20231001T073000Z
DTEND:20231001T100000Z
GEO:00;0
LOCATION:Biener Strasse 15\, 49744 Geeste
ORGANIZER:
SEQUENCE:1
SUMMARY:Buitenduik Lingen
TRANSP:OPAQUE
URL:https://owg-neptunus.nl/index.php/component/icagenda/777-buitenduik-lin
 gen-4?Itemid=101
END:VEVENT
END:VCALENDAR
