BEGIN:VCALENDAR
VERSION:2.0
PRODID:-//Onderwatergroep Neptunus//NONSGML kigkonsult.se iCalcreator 2.30.
 10//
CALSCALE:GREGORIAN
METHOD:PUBLISH
UID:2906d694-0807-4784-b164-76f38b5b724f
X-WR-CALNAME:iCagenda
X-WR-CALDESC:Event Management Extension for Joomla!
X-WR-RELCALID:3E26604A-50F4-4449-8B3E-E4F4932D05B5
X-WR-TIMEZONE:Europe/Amsterdam
BEGIN:VTIMEZONE
TZID:Europe/Amsterdam
BEGIN:STANDARD
TZNAME:CET
DTSTART:20221030T030000
TZOFFSETFROM:+0200
TZOFFSETTO:+0100
RDATE:20231029T030000
RDATE:20241027T030000
END:STANDARD
BEGIN:DAYLIGHT
TZNAME:CEST
DTSTART:20230326T020000
TZOFFSETFROM:+0100
TZOFFSETTO:+0200
RDATE:20240331T020000
END:DAYLIGHT
END:VTIMEZONE
BEGIN:VEVENT
UID:f1ed894e-5287-4fbc-baf4-d8067a958137
DTSTAMP:20260419T213431Z
CATEGORIES:Duiken
CLASS:PUBLIC
DESCRIPTION;ALTREP="CID:<FFFF__=0ABBE548DFE235B58f9e8a93d@coffeebean.com>":
 \nBRONSBERGENMEER NOORD\nNederland\, Gelderland\n 293 Logberichten\n \nMak
 kelijke duikplaats\n\n\nBronsbergenmeer Noord wordt gekenmerkt door een mo
 oie kleiwand. Bij goed zicht duik je er fantastisch langs\, terwijl je in 
 de diepte enorme kleiblokken ziet liggen. Prachtig bij invallend zonlicht.
  In het Bronsbergenmeer leven verder grote snoeken\, baarzen en palingen\,
  maar ook veel klein leven. Toegang is voorbehouden aan duikscholen en dui
 kverenigingen die zijn aangesloten bij de stichting Onderwaterwereld Zutph
 en en Omstreken (OWWZ). Gastduikers krijgen schriftelijk toestemming na be
 taling van een vergoeding.\nKenmerken BRONSBERGENMEER NOORD\n\nBijnamen\nB
 ronsbergen\nAdres\nBronsbergen 25\, 7207 AD Zutphen\nParkeren\nVoldoende p
 arkeergelegenheid parkeren bij sportschool\, bij sauna verboden voor duike
 rs\n\n\n\nAfstand\n20 m.\nGeschikt voor\nMindervaliden\, oefenduiken (lesp
 latforms)\, alle niveaus\nVergunning\nVergunning vereist / License require
 d\nToegang\nUitsluitend voor duikscholen en duikverenigingen die zijn aang
 esloten bij de stichting onderwaterwerld zutphen en omstreken (OWWZ) gastd
 uikers tegen betaling vind de dichtstbijzijnde duikcentrums in de Duikersg
 ids app\nFaciliteiten\nRestaurant\nWatersoort\nZoet\nDuiksoort\nKantduik\n
 Stroming\nGeen\nZicht\n2 - 5 m.\nZicht gemiddeld\n3 m.\nDiepte\n24 m.\nBod
 em\nzand\nLeven\nAasgarnaal\, baars\, driehoeksmossel\, kleine modderkruip
 er\, kokerjuffer\, paling\, pos\, snoek\, zoetwaterkreeft\n\n\n
DTSTART:20230924T080200Z
DTEND:20230924T100200Z
GEO:00;0
LOCATION:Bronsbergen 25\, 7207 AD Zutphen
ORGANIZER:
SEQUENCE:1
SUMMARY:Buitenduik Bronsbergenmeer Noord
TRANSP:OPAQUE
URL:https://owg-neptunus.nl/index.php/component/icagenda/776-buitenduik-bro
 nsbergenmeer-noord-2?Itemid=101
END:VEVENT
END:VCALENDAR
