BEGIN:VCALENDAR
VERSION:2.0
PRODID:-//Onderwatergroep Neptunus//NONSGML kigkonsult.se iCalcreator 2.30.
 10//
CALSCALE:GREGORIAN
METHOD:PUBLISH
UID:2994efbe-f31b-4a3b-82ed-44039e4b55e8
X-WR-CALNAME:iCagenda
X-WR-CALDESC:Event Management Extension for Joomla!
X-WR-RELCALID:3E26604A-50F4-4449-8B3E-E4F4932D05B5
X-WR-TIMEZONE:Europe/Amsterdam
BEGIN:VTIMEZONE
TZID:Europe/Amsterdam
BEGIN:STANDARD
TZNAME:CET
DTSTART:20221030T030000
TZOFFSETFROM:+0200
TZOFFSETTO:+0100
RDATE:20231029T030000
RDATE:20241027T030000
END:STANDARD
BEGIN:DAYLIGHT
TZNAME:CEST
DTSTART:20230326T020000
TZOFFSETFROM:+0100
TZOFFSETTO:+0200
RDATE:20240331T020000
END:DAYLIGHT
END:VTIMEZONE
BEGIN:VEVENT
UID:3b0dad54-703f-48ab-a3fd-be63eda7c77c
DTSTAMP:20260419T225712Z
CATEGORIES:Duiken
CLASS:PUBLIC
DESCRIPTION;ALTREP="CID:<FFFF__=0ABBE548DFE235B58f9e8a93d@coffeebean.com>":
 Kenmerken GRASBROEK\n\nBijnamen: Bornerbroek\nAdres: Grasbroekweg 1\, 7627
  RC Bornerbroek\nParkeren: Voldoende parkeergelegenheid\n\n\n\nAfstand: 30
  m.\nGeschikt voor: Beginnende duikers\, ervaren duikers\, nachtduiken (al
 tijd in overleg met de beheerder)\, oefenduiken\nVergunning: N.v.t. / NA\n
 Toegang: € 4\, 50 per auto melden bij slagboom vind het dichtstbijzijnde d
 uikcentrum in de Duikersgids app\, betaald duiken\nFaciliteiten: Steiger m
 et trapje en verlichting\, toilet (300 m lopen)\nWatersoort: Zoet\nDuiksoo
 rt: Kantduik\nStroming: Geen\nZicht: 1 - 5 m.\nZicht gemiddeld: 3 m.\nDiep
 te: 12 m.\nBodem: zand\nLeven: Baars\, blei\, kreeft\, mossel\, paling\, r
 iet\, snoek\, snoekbaars\, voorn\, waterpest\, gele waterroos\, zeelt\n\n
DTSTART:20230910T080000Z
DTEND:20230910T100000Z
GEO:00;0
LOCATION:Grasbroekweg 1\, 7627 RC Bornerbroek
ORGANIZER:
SEQUENCE:1
SUMMARY:Buitenduik Grasbroek
TRANSP:OPAQUE
URL:https://owg-neptunus.nl/index.php/component/icagenda/775-buitenduik-gra
 sbroek-9?Itemid=101
END:VEVENT
END:VCALENDAR
