BEGIN:VCALENDAR
VERSION:2.0
PRODID:-//Onderwatergroep Neptunus//NONSGML kigkonsult.se iCalcreator 2.30.
 10//
CALSCALE:GREGORIAN
METHOD:PUBLISH
UID:449e3dcc-d2db-4fd1-bd47-07b8961c4ced
X-WR-CALNAME:iCagenda
X-WR-CALDESC:Event Management Extension for Joomla!
X-WR-RELCALID:3E26604A-50F4-4449-8B3E-E4F4932D05B5
X-WR-TIMEZONE:Europe/Amsterdam
BEGIN:VTIMEZONE
TZID:Europe/Amsterdam
BEGIN:STANDARD
TZNAME:CET
DTSTART:20221030T030000
TZOFFSETFROM:+0200
TZOFFSETTO:+0100
RDATE:20231029T030000
RDATE:20241027T030000
END:STANDARD
BEGIN:DAYLIGHT
TZNAME:CEST
DTSTART:20230326T020000
TZOFFSETFROM:+0100
TZOFFSETTO:+0200
RDATE:20240331T020000
END:DAYLIGHT
END:VTIMEZONE
BEGIN:VEVENT
UID:53cdbff1-4c86-449c-a112-bfc8ba297e19
DTSTAMP:20260419T213408Z
CATEGORIES:Duiken
CLASS:PUBLIC
DESCRIPTION;ALTREP="CID:<FFFF__=0ABBE548DFE235B58f9e8a93d@coffeebean.com>":
 Kenmerken SLIJK-EWIJK\n\nBijnamen\nStrandpark Slijk-Ewijk\,Valburg\,Gat va
 n Hage\,Slijk Ewijk\nAdres\nValburgsestraat\, Slijk-Ewijk\nParkeren\nVoldo
 ende parkeergelegenheid\, betaald parkeren\n\n\n\nAfstand\n50 m.\nGeschikt
  voor\nAlle niveaus\, mindervalide duikers\, nachtduiken\, snorkelen\, oef
 enduiken\, technisch duiken\, freediving\nVergunning\nN.v.t. / NA\nToegang
 \nBetaald parkeren\, vrij toegang\nFaciliteiten\nDouche\, toiletten\, rest
 aurant\nWatersoort\nZoet\nDuiksoort\nKantduik\nStroming\nGeen\nZicht\n3 - 
 15 m.\nZicht gemiddeld\n5 m.\nDiepte\n36 m.\nBodem\nzand\,veel begroeiing
 \nLeven\nBrasem\, karper\, snoek\, voorn\, zoetwaterkreef \, baars\, snoek
 baars\n\n
DTSTART:20230917T080000Z
DTEND:20230917T100000Z
GEO:00;0
LOCATION:Valburgsestraat\, Slijk-Ewijk
ORGANIZER:
SEQUENCE:1
SUMMARY:Buitenduik Slijk Ewijk
TRANSP:OPAQUE
URL:https://owg-neptunus.nl/index.php/component/icagenda/774-buitenduik-sli
 jk-ewijksloo?Itemid=101
END:VEVENT
END:VCALENDAR
