BEGIN:VCALENDAR
VERSION:2.0
PRODID:-//Onderwatergroep Neptunus//NONSGML kigkonsult.se iCalcreator 2.30.
 10//
CALSCALE:GREGORIAN
METHOD:PUBLISH
UID:450fe671-b14d-418a-97ff-9a4fabab5afe
X-WR-CALNAME:iCagenda
X-WR-CALDESC:Event Management Extension for Joomla!
X-WR-RELCALID:3E26604A-50F4-4449-8B3E-E4F4932D05B5
X-WR-TIMEZONE:Europe/Amsterdam
BEGIN:VTIMEZONE
TZID:Europe/Amsterdam
BEGIN:STANDARD
TZNAME:CET
DTSTART:20221030T030000
TZOFFSETFROM:+0200
TZOFFSETTO:+0100
RDATE:20231029T030000
RDATE:20241027T030000
END:STANDARD
BEGIN:DAYLIGHT
TZNAME:CEST
DTSTART:20230326T020000
TZOFFSETFROM:+0100
TZOFFSETTO:+0200
RDATE:20240331T020000
RDATE:20250330T020000
END:DAYLIGHT
END:VTIMEZONE
BEGIN:VEVENT
UID:b1f1797b-2ce1-49a3-bb8e-4961cf4cd819
DTSTAMP:20260419T212719Z
CATEGORIES:Doelgroepenbad Belangrijk
CLASS:PUBLIC
DESCRIPTION;ALTREP="CID:<FFFF__=0ABBE548DFE235B58f9e8a93d@coffeebean.com>":
 Vanwege waterpolowedstrijden moeten wij uitwijken naar het sportbad. Dit i
 s het 50-meter bad in het andere gebouw.
DTSTART:20230930T150000Z
DTEND:20230930T160000Z
GEO:00;0
LOCATION:Twentebad Hengelo
ORGANIZER:
SEQUENCE:1
SUMMARY:snorkel- en conditietraining
TRANSP:OPAQUE
URL:https://owg-neptunus.nl/index.php/component/icagenda/769-snorkel-en-con
 ditietraining-30?Itemid=101
END:VEVENT
END:VCALENDAR
