BEGIN:VCALENDAR
VERSION:2.0
PRODID:-//Onderwatergroep Neptunus//NONSGML kigkonsult.se iCalcreator 2.30.
 10//
CALSCALE:GREGORIAN
METHOD:PUBLISH
UID:7c811381-be9c-4ec0-80d5-6bf2b0ac40e0
X-WR-CALNAME:iCagenda
X-WR-CALDESC:Event Management Extension for Joomla!
X-WR-RELCALID:3E26604A-50F4-4449-8B3E-E4F4932D05B5
X-WR-TIMEZONE:Europe/Amsterdam
BEGIN:VTIMEZONE
TZID:Europe/Amsterdam
BEGIN:STANDARD
TZNAME:CET
DTSTART:20221030T030000
TZOFFSETFROM:+0200
TZOFFSETTO:+0100
RDATE:20231029T030000
RDATE:20241027T030000
END:STANDARD
BEGIN:DAYLIGHT
TZNAME:CEST
DTSTART:20230326T020000
TZOFFSETFROM:+0100
TZOFFSETTO:+0200
RDATE:20240331T020000
END:DAYLIGHT
END:VTIMEZONE
BEGIN:VEVENT
UID:71d110f3-8257-4757-9207-5c9430230330
DTSTAMP:20260419T213431Z
CATEGORIES:Evenementen
CLASS:PUBLIC
DESCRIPTION:
DTSTART:20230917T070000Z
DTEND:20230917T140000Z
GEO:00;0
LOCATION:Duisburg
ORGANIZER:
SEQUENCE:1
SUMMARY:diving gasometer in the Landschaftspark Duisburg-Nord
TRANSP:OPAQUE
URL:https://owg-neptunus.nl/index.php/component/icagenda/763-diving-gasomet
 er-in-the-landschaftspark-duisburg-nord?Itemid=101
END:VEVENT
END:VCALENDAR
