BEGIN:VCALENDAR
VERSION:2.0
PRODID:-//Onderwatergroep Neptunus//NONSGML kigkonsult.se iCalcreator 2.30.
 10//
CALSCALE:GREGORIAN
METHOD:PUBLISH
UID:986f4fea-3974-427f-8f41-4b127dc54491
X-WR-CALNAME:iCagenda
X-WR-CALDESC:Event Management Extension for Joomla!
X-WR-RELCALID:3E26604A-50F4-4449-8B3E-E4F4932D05B5
X-WR-TIMEZONE:Europe/Amsterdam
BEGIN:VTIMEZONE
TZID:Europe/Amsterdam
BEGIN:STANDARD
TZNAME:CET
DTSTART:20221030T030000
TZOFFSETFROM:+0200
TZOFFSETTO:+0100
RDATE:20231029T030000
RDATE:20241027T030000
END:STANDARD
BEGIN:DAYLIGHT
TZNAME:CEST
DTSTART:20230326T020000
TZOFFSETFROM:+0100
TZOFFSETTO:+0200
RDATE:20240331T020000
END:DAYLIGHT
END:VTIMEZONE
BEGIN:VEVENT
UID:1e71f0f8-179f-474f-83bc-126be48fce8d
DTSTAMP:20260419T181913Z
CATEGORIES:Duiken
CLASS:PUBLIC
DESCRIPTION:
DTSTART:20230702T100000Z
DTEND:20230702T103000Z
GEO:00;0
LOCATION:Grasbroekweg 1\, 7627 RC Bornerbroek
ORGANIZER:
SEQUENCE:1
SUMMARY:Buitenduik Grasbroek
TRANSP:OPAQUE
URL:https://owg-neptunus.nl/index.php/component/icagenda/752-buitenduik-gra
 sbroek-8?Itemid=101
END:VEVENT
END:VCALENDAR
