BEGIN:VCALENDAR
VERSION:2.0
PRODID:-//Onderwatergroep Neptunus//NONSGML kigkonsult.se iCalcreator 2.30.
 10//
CALSCALE:GREGORIAN
METHOD:PUBLISH
UID:f9d59f38-9ad1-4ac1-99c9-0bfb5aaf170a
X-WR-CALNAME:iCagenda
X-WR-CALDESC:Event Management Extension for Joomla!
X-WR-RELCALID:3E26604A-50F4-4449-8B3E-E4F4932D05B5
X-WR-TIMEZONE:Europe/Amsterdam
BEGIN:VTIMEZONE
TZID:Europe/Amsterdam
BEGIN:STANDARD
TZNAME:CET
DTSTART:20221030T030000
TZOFFSETFROM:+0200
TZOFFSETTO:+0100
RDATE:20231029T030000
END:STANDARD
BEGIN:DAYLIGHT
TZNAME:CEST
DTSTART:20220327T020000
TZOFFSETFROM:+0100
TZOFFSETTO:+0200
RDATE:20230326T020000
RDATE:20240331T020000
END:DAYLIGHT
END:VTIMEZONE
BEGIN:VEVENT
UID:47c20ca1-3498-4837-8422-8c799cc0f709
DTSTAMP:20260419T182038Z
CATEGORIES:Evenementen
CLASS:PUBLIC
DESCRIPTION:
DTSTART:20230108T090000Z
DTEND:20230108T123000Z
GEO:00;0
LOCATION:Twekkelo\, specifieke locatie volgt
ORGANIZER:
SEQUENCE:1
SUMMARY:Nieuwjaarswandeling
TRANSP:OPAQUE
URL:https://owg-neptunus.nl/index.php/component/icagenda/747-nieuwjaarswand
 eling-2?Itemid=101
END:VEVENT
END:VCALENDAR
