BEGIN:VCALENDAR
VERSION:2.0
PRODID:-//Onderwatergroep Neptunus//NONSGML kigkonsult.se iCalcreator 2.30.
 10//
CALSCALE:GREGORIAN
METHOD:PUBLISH
UID:29058393-160f-49aa-8540-55ea111619cf
X-WR-CALNAME:iCagenda
X-WR-CALDESC:Event Management Extension for Joomla!
X-WR-RELCALID:3E26604A-50F4-4449-8B3E-E4F4932D05B5
X-WR-TIMEZONE:Europe/Amsterdam
BEGIN:VTIMEZONE
TZID:Europe/Amsterdam
BEGIN:STANDARD
TZNAME:CET
DTSTART:20211031T030000
TZOFFSETFROM:+0200
TZOFFSETTO:+0100
RDATE:20221030T030000
RDATE:20231029T030000
END:STANDARD
BEGIN:DAYLIGHT
TZNAME:CEST
DTSTART:20220327T020000
TZOFFSETFROM:+0100
TZOFFSETTO:+0200
RDATE:20230326T020000
RDATE:20240331T020000
END:DAYLIGHT
END:VTIMEZONE
BEGIN:VEVENT
UID:dc0ec4be-3dd2-4fac-b64f-84154157b511
DTSTAMP:20260420T004601Z
CATEGORIES:Evenementen
CLASS:PUBLIC
DESCRIPTION;ALTREP="CID:<FFFF__=0ABBE548DFE235B58f9e8a93d@coffeebean.com>":
 Duikevenement NaturaGart\, zondag 9 oktober 2022 Nabij Ibbenbüren is een e
 rg gave duiklocatie NaturaGart. Dit is één van de grootste kunstmatige dui
 kbassins in Europa en er is hier een parcours met steenformaties en veel v
 issen. Enkele leden zijn daar al een paar keer keren geweest en hebben daa
 r een mooie duikervaring opgedaan. Het lijkt ons leuk om daar met andere l
 eden van Neptunus naar toe te gaan. Gaby Bruins en Paul Horsthuis organise
 ren dit evenement. De kosten van de reis en entree e.d. zijn wel voor eige
 n rekening. Vanaf Hengelo is het ongeveer 70 km rijden met een reistijd va
 n ongeveer 1 uur. De kosten voor een dagpas op zondag bedragen € 40\,-   V
 oor meer informatie verwijzen we naar onderstaande links. NaturaGart: http
 s://www.naturagart.de/Tauchpark/ Duikgids: https://www.duikersgids.nl/natu
 ragart Duiken in het onderwaterpark | NaturaGart tv-| Video over duikimpre
 ssies bij NaturaGart Duikcentrum | NaturaGart Park | Vijverpark in Ibbenbü
 ren Prijzen | NaturaGart Duikpark | Duiken in het onderwaterpark Registrat
 ie | NaturaGart Duikpark | Duiken in het onderwaterpark Vind je het leuk o
 m mee te gaan geef je dan uiterlijk voor 1 september 2022 bij een van beid
 en op. (gabybruins@hotmail.com / paul@horsthuis.nl ) Daarna geven we ons c
 ollectief op en maken we verdere afspraken.
DTSTART:20221009T080000Z
DTEND:20221009T140000Z
GEO:00;0
LOCATION:NaturaGart\, (Ibbenbüren\, Duitsland)
ORGANIZER:
SEQUENCE:1
SUMMARY:Duikevenement NaturaGart\, (Ibbenbüren\, Duitsland)
TRANSP:OPAQUE
URL:https://owg-neptunus.nl/index.php/component/icagenda/705-duikevenement-
 naturagart-ibbenbueren-duitsland?Itemid=101
END:VEVENT
END:VCALENDAR
