BEGIN:VCALENDAR
VERSION:2.0
PRODID:-//Onderwatergroep Neptunus//NONSGML kigkonsult.se iCalcreator 2.30.
 10//
CALSCALE:GREGORIAN
METHOD:PUBLISH
UID:010933e4-3db4-4177-8cd4-5bf56da47437
X-WR-CALNAME:iCagenda
X-WR-CALDESC:Event Management Extension for Joomla!
X-WR-RELCALID:3E26604A-50F4-4449-8B3E-E4F4932D05B5
X-WR-TIMEZONE:Europe/Amsterdam
BEGIN:VTIMEZONE
TZID:Europe/Amsterdam
BEGIN:STANDARD
TZNAME:CET
DTSTART:20211031T030000
TZOFFSETFROM:+0200
TZOFFSETTO:+0100
RDATE:20221030T030000
RDATE:20231029T030000
END:STANDARD
BEGIN:DAYLIGHT
TZNAME:CEST
DTSTART:20220327T020000
TZOFFSETFROM:+0100
TZOFFSETTO:+0200
RDATE:20230326T020000
END:DAYLIGHT
END:VTIMEZONE
BEGIN:VEVENT
UID:ca9bf576-fe01-4e65-b709-1959a78783a9
DTSTAMP:20260420T004615Z
CATEGORIES:Dive World
CLASS:PUBLIC
DESCRIPTION:
DTSTART:20220909T170000Z
DTEND:20220909T190000Z
GEO:00;0
LOCATION:Duiktoren\, Miracle Planet\, Enschede
ORGANIZER:
SEQUENCE:1
SUMMARY:Duiktoren
TRANSP:OPAQUE
URL:https://owg-neptunus.nl/index.php/component/icagenda/691-duiktoren-2?It
 emid=101
END:VEVENT
END:VCALENDAR
