BEGIN:VCALENDAR
VERSION:2.0
PRODID:-//Onderwatergroep Neptunus//NONSGML kigkonsult.se iCalcreator 2.30.
 10//
CALSCALE:GREGORIAN
METHOD:PUBLISH
UID:ccfa718e-196b-4b6f-aac0-85e28c1a3b1e
X-WR-CALNAME:iCagenda
X-WR-CALDESC:Event Management Extension for Joomla!
X-WR-RELCALID:3E26604A-50F4-4449-8B3E-E4F4932D05B5
X-WR-TIMEZONE:Europe/Amsterdam
BEGIN:VTIMEZONE
TZID:Europe/Amsterdam
BEGIN:STANDARD
TZNAME:CET
DTSTART:20211031T030000
TZOFFSETFROM:+0200
TZOFFSETTO:+0100
RDATE:20221030T030000
RDATE:20231029T030000
END:STANDARD
BEGIN:DAYLIGHT
TZNAME:CEST
DTSTART:20220327T020000
TZOFFSETFROM:+0100
TZOFFSETTO:+0200
RDATE:20230326T020000
END:DAYLIGHT
END:VTIMEZONE
BEGIN:VEVENT
UID:293ca72d-605e-4803-b101-7b2a54b6c1a1
DTSTAMP:20260419T182132Z
CATEGORIES:Evenementen
CLASS:PUBLIC
DESCRIPTION;ALTREP="CID:<FFFF__=0ABBE548DFE235B58f9e8a93d@coffeebean.com>":
 Zeelandweekend 2022\nWij organiseren in het weekend van vrijdag 10 juni t/
 m maandag 13 juni weer ons jaarlijkse Zeelandweekend.  Wij hebben een opti
 e genomen op 2x een 6-persoons chalets op camping De Witte Boulevard in Re
 nesse.\nDe kosten van dit weekend zijn €  130\,= p.p.\nSamen duiken en de 
 gezelligheid van Zeeland en Renesse ervaren.  Wij zorgen voor een gevulde 
 koelkast voor ontbijt. Voor het avondeten moet je zelf zorgen of kun je ev
 entueel in Renesse een hapje eten.\nLijkt jou het leuk om samen met andere
  duikers van Neptunus een weekend onder en boven water  door te brengen\, 
 meld je dan aan bij mij door het bedrag van € 130\,= p.p. over te maken na
 ar NL93 RABO 0179 1014 12\n(Graag aanmelden voor 10 februari omdat anders 
 de optie vervalt)\nEn ook even een mail of apje naar mij te sturen.\nMail:
  jose.bijkerk@gmail.com (dus niet deze nieuwsbrief beantwoorden)\nof  Mob.
 : 06 36 54 95 74\nVoor de meeste mensen is het allemaal wel bekend. Voor d
 e nieuwe leden bij interesse kun je altijd voor meer informatie bij mij of
  René terecht.\nGroetjes\nJosé en René
DTSTART:20220610T100000Z
DTEND:20220613T100000Z
GEO:00;0
LOCATION:camping De Witte Boulevard in Renesse.
ORGANIZER:
SEQUENCE:1
SUMMARY:Uitnodiging Zeelandweekend 2022
TRANSP:OPAQUE
URL:https://owg-neptunus.nl/index.php/component/icagenda/674-uitnodiging-ze
 elandweekend-2022?Itemid=101
END:VEVENT
END:VCALENDAR
