BEGIN:VCALENDAR
VERSION:2.0
PRODID:-//Onderwatergroep Neptunus//NONSGML kigkonsult.se iCalcreator 2.30.
 10//
CALSCALE:GREGORIAN
METHOD:PUBLISH
UID:3086ffbc-8dbe-4cd3-9253-73168e97e8c0
X-WR-CALNAME:iCagenda
X-WR-CALDESC:Event Management Extension for Joomla!
X-WR-RELCALID:3E26604A-50F4-4449-8B3E-E4F4932D05B5
X-WR-TIMEZONE:Europe/Amsterdam
BEGIN:VTIMEZONE
TZID:Europe/Amsterdam
BEGIN:STANDARD
TZNAME:CET
DTSTART:20211031T030000
TZOFFSETFROM:+0200
TZOFFSETTO:+0100
RDATE:20221030T030000
END:STANDARD
BEGIN:DAYLIGHT
TZNAME:CEST
DTSTART:20210328T020000
TZOFFSETFROM:+0100
TZOFFSETTO:+0200
RDATE:20220327T020000
RDATE:20230326T020000
END:DAYLIGHT
END:VTIMEZONE
BEGIN:VEVENT
UID:37bf3e8b-2f53-4548-a29f-3bfa69b33931
DTSTAMP:20260419T200449Z
CATEGORIES:Dive World
CLASS:PUBLIC
DESCRIPTION:
DTSTART:20220114T180000Z
DTEND:20220114T200000Z
GEO:00;0
LOCATION:Colosseum 72\, 7521 P\,T Enschede
ORGANIZER:
SEQUENCE:1
SUMMARY:Duiktoren Dive world vervalt vanwege Cocid-19 maatregelen
TRANSP:OPAQUE
URL:https://owg-neptunus.nl/index.php/component/icagenda/646-duiktoren-dive
 -world?Itemid=101
END:VEVENT
END:VCALENDAR
