BEGIN:VCALENDAR
VERSION:2.0
PRODID:-//Onderwatergroep Neptunus//NONSGML kigkonsult.se iCalcreator 2.30.
 10//
CALSCALE:GREGORIAN
METHOD:PUBLISH
UID:80c513fd-2d74-421c-9a53-00eeffccdbb4
X-WR-CALNAME:iCagenda
X-WR-CALDESC:Event Management Extension for Joomla!
X-WR-RELCALID:3E26604A-50F4-4449-8B3E-E4F4932D05B5
X-WR-TIMEZONE:Europe/Amsterdam
BEGIN:VTIMEZONE
TZID:Europe/Amsterdam
BEGIN:STANDARD
TZNAME:CET
DTSTART:20211031T030000
TZOFFSETFROM:+0200
TZOFFSETTO:+0100
RDATE:20221030T030000
END:STANDARD
BEGIN:DAYLIGHT
TZNAME:CEST
DTSTART:20210328T020000
TZOFFSETFROM:+0100
TZOFFSETTO:+0200
RDATE:20220327T020000
RDATE:20230326T020000
END:DAYLIGHT
END:VTIMEZONE
BEGIN:VEVENT
UID:33e14db3-42b5-487c-9063-4505eb00bcc9
DTSTAMP:20260419T201753Z
CATEGORIES:Evenementen
CLASS:PUBLIC
DESCRIPTION:
DTSTART:20220116T230000Z
DTEND:20220125T150000Z
GEO:00;0
LOCATION:Bonaire
ORGANIZER;CN=:paul@horsthuis.nl
SEQUENCE:1
SUMMARY:60 jarig jubileumreis Bonaire\, vertrek 17 januari 2022
TRANSP:OPAQUE
URL:https://owg-neptunus.nl/index.php/component/icagenda/644-60-jarig-jubil
 eumreis-bonaire-vertrek-17-januari-2022?Itemid=101
END:VEVENT
END:VCALENDAR
