BEGIN:VCALENDAR
VERSION:2.0
PRODID:-//Onderwatergroep Neptunus//NONSGML kigkonsult.se iCalcreator 2.30.
 10//
CALSCALE:GREGORIAN
METHOD:PUBLISH
UID:bd01a725-fded-4fc3-9620-3fbbc9a5d471
X-WR-CALNAME:iCagenda
X-WR-CALDESC:Event Management Extension for Joomla!
X-WR-RELCALID:3E26604A-50F4-4449-8B3E-E4F4932D05B5
X-WR-TIMEZONE:Europe/Amsterdam
BEGIN:VTIMEZONE
TZID:Europe/Amsterdam
BEGIN:STANDARD
TZNAME:CET
DTSTART:20211031T030000
TZOFFSETFROM:+0200
TZOFFSETTO:+0100
RDATE:20221030T030000
END:STANDARD
BEGIN:DAYLIGHT
TZNAME:CEST
DTSTART:20210328T020000
TZOFFSETFROM:+0100
TZOFFSETTO:+0200
RDATE:20220327T020000
RDATE:20230326T020000
END:DAYLIGHT
END:VTIMEZONE
BEGIN:VEVENT
UID:8668cfa8-8b1b-4931-8bc3-f62196227a9a
DTSTAMP:20260419T231327Z
CATEGORIES:Evenementen
CLASS:PUBLIC
DESCRIPTION;ALTREP="CID:<FFFF__=0ABBE548DFE235B58f9e8a93d@coffeebean.com>":
 Graag nodigen we jullie uit voor deze zondagmiddag in de Duiktoren (Divewo
 rld). Na jullie zondagse siësta verwelkomen we jullie samen met je partner
  om 15.00 uur met een drankje en een hapje. Leden die ‘kopje onder’ willen
  kunnen deze gelegenheid aangrijpen om vanaf 14.00 uur een duik te maken. 
 We kletsen deze middag gezellig bij. We laten ook films en foto’s van eerd
 ere duikavonturen zien.De vereniging neemt koffie\, met wat lekkers erbij\
 , twee drankjes\, bitterballen en het warme eten voor haar rekening. Om on
 geveer 17.00 uur openen we het stamppotbuffet. Om ongeveer 18.00 uur sluit
 en we dit feest af.  Coronacheck: De duiktoren controleert overeenkomstig 
 de horecaregels op vaccinatie of negatieve test.\nWillen jullie je je op d
 eze pagina van onze website voor dit feest aanmelden en aangeven of je iem
 and meeneemt? Dit willen we graag weten in verband met de bestelling van d
 e bitterballen en het spamppotbuffet.
DTSTART:20211121T140000Z
DTEND:20211121T170000Z
GEO:00;0
LOCATION:Colosseum 72\, 7521 P\,T Enschede
ORGANIZER:
SEQUENCE:1
SUMMARY:Uitgesteld Jaarfeest zondag 21 november 2021\, locatie: Diveworld
TRANSP:OPAQUE
URL:https://owg-neptunus.nl/index.php/component/icagenda/643-jaarfeest-zond
 ag-21-november-2021-locatie-diveworld?Itemid=101
END:VEVENT
END:VCALENDAR
