BEGIN:VCALENDAR
VERSION:2.0
PRODID:-//Onderwatergroep Neptunus//NONSGML kigkonsult.se iCalcreator 2.30.
 10//
CALSCALE:GREGORIAN
METHOD:PUBLISH
UID:91cabcf3-6a69-4226-8fff-7cae275ff91f
X-WR-CALNAME:iCagenda
X-WR-CALDESC:Event Management Extension for Joomla!
X-WR-RELCALID:3E26604A-50F4-4449-8B3E-E4F4932D05B5
X-WR-TIMEZONE:Europe/Amsterdam
BEGIN:VTIMEZONE
TZID:Europe/Amsterdam
BEGIN:STANDARD
TZNAME:CET
DTSTART:20201025T030000
TZOFFSETFROM:+0200
TZOFFSETTO:+0100
RDATE:20211031T030000
RDATE:20221030T030000
END:STANDARD
BEGIN:DAYLIGHT
TZNAME:CEST
DTSTART:20210328T020000
TZOFFSETFROM:+0100
TZOFFSETTO:+0200
RDATE:20220327T020000
END:DAYLIGHT
END:VTIMEZONE
BEGIN:VEVENT
UID:b22f4f29-9a8f-4e58-b89e-7be5c87433d2
DTSTAMP:20260419T214006Z
CATEGORIES:Evenementen
CLASS:PUBLIC
DESCRIPTION;ALTREP="CID:<FFFF__=0ABBE548DFE235B58f9e8a93d@coffeebean.com>":
 1e buitenduik Neptunus op zondag 4 juli 2021.\nTijd: 10.00 uur\, locatie: 
 het Grasbroek.\nGraag nodigen we jullie uit om daaraan deel te nemen. Als 
 bestuur verzorgen we tomatensoep\, een broodje worst en drinken. Gezinsled
 en zijn ook van harte welkom. We hopen op een leuke opkomst.\n \nOm te wet
 en hoeveel soep en broodjes worst we moeten inslaan\, stellen we het erg o
 p prijs als jullie je via de website van Neptunus (evenementen) opgeven.
DTSTART:20210704T080000Z
DTEND:20210704T110000Z
GEO:00;0
LOCATION:Het Grasbroek
ORGANIZER:
SEQUENCE:1
SUMMARY:1e Buitenduik Neptunus
TRANSP:OPAQUE
URL:https://owg-neptunus.nl/index.php/component/icagenda/615-1e-buitenduik-
 neptunus?Itemid=101
END:VEVENT
END:VCALENDAR
