BEGIN:VCALENDAR
VERSION:2.0
PRODID:-//Onderwatergroep Neptunus//NONSGML kigkonsult.se iCalcreator 2.30.
 10//
CALSCALE:GREGORIAN
METHOD:PUBLISH
UID:8fa9bfa2-c655-491d-b605-c567085d8be1
X-WR-CALNAME:iCagenda
X-WR-CALDESC:Event Management Extension for Joomla!
X-WR-RELCALID:3E26604A-50F4-4449-8B3E-E4F4932D05B5
X-WR-TIMEZONE:Europe/Amsterdam
BEGIN:VTIMEZONE
TZID:Europe/Amsterdam
BEGIN:STANDARD
TZNAME:CET
DTSTART:20201025T030000
TZOFFSETFROM:+0200
TZOFFSETTO:+0100
RDATE:20211031T030000
RDATE:20221030T030000
END:STANDARD
BEGIN:DAYLIGHT
TZNAME:CEST
DTSTART:20210328T020000
TZOFFSETFROM:+0100
TZOFFSETTO:+0200
RDATE:20220327T020000
END:DAYLIGHT
END:VTIMEZONE
BEGIN:VEVENT
UID:99d83d73-98b9-4690-bf5f-58463ed6455b
DTSTAMP:20260419T201421Z
CATEGORIES:Evenementen
CLASS:PUBLIC
DESCRIPTION:
DTSTART:20210611T100000Z
DTEND:20210613T150000Z
GEO:00;0
LOCATION:camping Witte Boulevard\, Renesse
ORGANIZER:
SEQUENCE:1
SUMMARY:Zeelandweekend 2021
TRANSP:OPAQUE
URL:https://owg-neptunus.nl/index.php/component/icagenda/612-zeelandweekend
 -2021?Itemid=101
END:VEVENT
END:VCALENDAR
