BEGIN:VCALENDAR
VERSION:2.0
PRODID:-//Onderwatergroep Neptunus//NONSGML kigkonsult.se iCalcreator 2.30.
 10//
CALSCALE:GREGORIAN
METHOD:PUBLISH
UID:ce8f972a-5e52-4c83-adaf-649396dd4e0a
X-WR-CALNAME:iCagenda
X-WR-CALDESC:Event Management Extension for Joomla!
X-WR-RELCALID:3E26604A-50F4-4449-8B3E-E4F4932D05B5
X-WR-TIMEZONE:Europe/Amsterdam
BEGIN:VTIMEZONE
TZID:Europe/Amsterdam
BEGIN:STANDARD
TZNAME:CET
DTSTART:20201025T030000
TZOFFSETFROM:+0200
TZOFFSETTO:+0100
RDATE:20211031T030000
END:STANDARD
BEGIN:DAYLIGHT
TZNAME:CEST
DTSTART:20200329T020000
TZOFFSETFROM:+0100
TZOFFSETTO:+0200
RDATE:20210328T020000
RDATE:20220327T020000
END:DAYLIGHT
END:VTIMEZONE
BEGIN:VEVENT
UID:302704f5-00f4-4f2a-b163-41a4352fb84a
DTSTAMP:20260419T181735Z
CATEGORIES:Doelgroepenbad
CLASS:PUBLIC
DESCRIPTION:
DTSTART:20210306T160000Z
DTEND:20210306T170000Z
GEO:00;0
LOCATION:
ORGANIZER:
SEQUENCE:1
SUMMARY:Geen training in verband met Covid-19 beperkingen
TRANSP:OPAQUE
URL:https://owg-neptunus.nl/index.php/component/icagenda/595-snorkel-en-con
 ditietraining?Itemid=101
END:VEVENT
END:VCALENDAR
