BEGIN:VCALENDAR
VERSION:2.0
PRODID:-//Onderwatergroep Neptunus//NONSGML kigkonsult.se iCalcreator 2.30.
 10//
CALSCALE:GREGORIAN
METHOD:PUBLISH
UID:891b0ef9-ef90-4633-8ab4-4f871dc1cbc8
X-WR-CALNAME:iCagenda
X-WR-CALDESC:Event Management Extension for Joomla!
X-WR-RELCALID:3E26604A-50F4-4449-8B3E-E4F4932D05B5
X-WR-TIMEZONE:Europe/Amsterdam
BEGIN:VTIMEZONE
TZID:Europe/Amsterdam
BEGIN:STANDARD
TZNAME:CET
DTSTART:20201025T030000
TZOFFSETFROM:+0200
TZOFFSETTO:+0100
RDATE:20211031T030000
END:STANDARD
BEGIN:DAYLIGHT
TZNAME:CEST
DTSTART:20200329T020000
TZOFFSETFROM:+0100
TZOFFSETTO:+0200
RDATE:20210328T020000
RDATE:20220327T020000
END:DAYLIGHT
END:VTIMEZONE
BEGIN:VEVENT
UID:d2e7535f-a12c-4247-8ac7-962e7ca928e1
DTSTAMP:20260419T213431Z
CATEGORIES:Dive World
CLASS:PUBLIC
DESCRIPTION:
DTSTART:20210108T180000Z
DTEND:20210108T200000Z
GEO:00;0
LOCATION:Diveworld\; Colosseum 72\, 7521 PT Enschede
ORGANIZER:
SEQUENCE:1
SUMMARY:Duiktoren\, training vervallen vanwege covid 19 lockdown
TRANSP:OPAQUE
URL:https://owg-neptunus.nl/index.php/component/icagenda/585-duiktoren-via-
 website-tijdig-aanmelden?Itemid=101
END:VEVENT
END:VCALENDAR
