BEGIN:VCALENDAR
VERSION:2.0
PRODID:-//Onderwatergroep Neptunus//NONSGML kigkonsult.se iCalcreator 2.30.
 10//
CALSCALE:GREGORIAN
METHOD:PUBLISH
UID:ee87edc7-10dd-429c-a7dd-f1a9513418c8
X-WR-CALNAME:iCagenda
X-WR-CALDESC:Event Management Extension for Joomla!
X-WR-RELCALID:3E26604A-50F4-4449-8B3E-E4F4932D05B5
X-WR-TIMEZONE:Europe/Amsterdam
BEGIN:VTIMEZONE
TZID:Europe/Amsterdam
BEGIN:STANDARD
TZNAME:CET
DTSTART:20191027T030000
TZOFFSETFROM:+0200
TZOFFSETTO:+0100
RDATE:20201025T030000
RDATE:20211031T030000
END:STANDARD
BEGIN:DAYLIGHT
TZNAME:CEST
DTSTART:20200329T020000
TZOFFSETFROM:+0100
TZOFFSETTO:+0200
RDATE:20210328T020000
RDATE:20220327T020000
END:DAYLIGHT
END:VTIMEZONE
BEGIN:VEVENT
UID:3ce518e6-131b-4865-a50e-fc24582dec90
DTSTAMP:20260420T022227Z
CATEGORIES:Duiken
CLASS:PUBLIC
DESCRIPTION:
DTSTART:20201004T080000Z
DTEND:20201004T100000Z
GEO:00;0
LOCATION:Ficarystraat\, Ewijk
ORGANIZER:
SEQUENCE:1
SUMMARY:Buitenduik Groene Heuvels
TRANSP:OPAQUE
URL:https://owg-neptunus.nl/index.php/component/icagenda/569-buitenduik-gro
 ene-heuvels?Itemid=101
END:VEVENT
END:VCALENDAR
