BEGIN:VCALENDAR
VERSION:2.0
PRODID:-//Onderwatergroep Neptunus//NONSGML kigkonsult.se iCalcreator 2.30.
 10//
CALSCALE:GREGORIAN
METHOD:PUBLISH
UID:b0064c62-a6a2-4dec-be84-3e5aa211bc5b
X-WR-CALNAME:iCagenda
X-WR-CALDESC:Event Management Extension for Joomla!
X-WR-RELCALID:3E26604A-50F4-4449-8B3E-E4F4932D05B5
X-WR-TIMEZONE:Europe/Amsterdam
BEGIN:VTIMEZONE
TZID:Europe/Amsterdam
BEGIN:STANDARD
TZNAME:CET
DTSTART:20191027T030000
TZOFFSETFROM:+0200
TZOFFSETTO:+0100
RDATE:20201025T030000
RDATE:20211031T030000
END:STANDARD
BEGIN:DAYLIGHT
TZNAME:CEST
DTSTART:20200329T020000
TZOFFSETFROM:+0100
TZOFFSETTO:+0200
RDATE:20210328T020000
END:DAYLIGHT
END:VTIMEZONE
BEGIN:VEVENT
UID:246a185d-9f1d-4657-ac49-b1b5749454e6
DTSTAMP:20260420T022436Z
CATEGORIES:Evenementen
CLASS:PUBLIC
DESCRIPTION;ALTREP="CID:<FFFF__=0ABBE548DFE235B58f9e8a93d@coffeebean.com>":
 Duikkeuring 21 september 2020 Deze jaarlijkse keuring zal wederom door de 
 heer Van Meerendonk worden verzorgd. Je kunt je tot 31 augustus 2020 voor 
 deze keuring via de website bij Jan Schoneveld aanmelden. Op deze avond ku
 nnen maximaal 14 leden gekeurd worden. Indien iemand op de keuringsdag moe
 t hoesten/verkouden is of koorts heeft kan zij/hij geen gebruik maken van 
 deze keuring!!  De keuringskosten bedragen € 30\,- p.p. Dit moet je contac
 t betalen. Je moet je duiklogboek en ochtendurine meenemen.
DTSTART:20200921T165000Z
DTEND:20200921T190000Z
GEO:00;0
LOCATION:Rembrandtstraat 2\, 7482 ED Haaksbergen
ORGANIZER:
SEQUENCE:1
SUMMARY:Duikkeuring. C. van Meerendonk Haaksbergen\; vervalt vanwege Corona
  situatie
TRANSP:OPAQUE
URL:https://owg-neptunus.nl/index.php/component/icagenda/564-duikkeuring-c-
 van-meerendonk-haaksbergen-onder-voorbehoud-corona-situatie?Itemid=101
END:VEVENT
END:VCALENDAR
