BEGIN:VCALENDAR
VERSION:2.0
PRODID:-//Onderwatergroep Neptunus//NONSGML kigkonsult.se iCalcreator 2.30.
 10//
CALSCALE:GREGORIAN
METHOD:PUBLISH
UID:327cdc6c-56d5-43f2-8dfa-498bc286658e
X-WR-CALNAME:iCagenda
X-WR-CALDESC:Event Management Extension for Joomla!
X-WR-RELCALID:3E26604A-50F4-4449-8B3E-E4F4932D05B5
X-WR-TIMEZONE:Europe/Amsterdam
BEGIN:VTIMEZONE
TZID:Europe/Amsterdam
BEGIN:STANDARD
TZNAME:CET
DTSTART:20201025T030000
TZOFFSETFROM:+0200
TZOFFSETTO:+0100
RDATE:20211031T030000
END:STANDARD
BEGIN:DAYLIGHT
TZNAME:CEST
DTSTART:20200329T020000
TZOFFSETFROM:+0100
TZOFFSETTO:+0200
RDATE:20210328T020000
RDATE:20220327T020000
END:DAYLIGHT
END:VTIMEZONE
BEGIN:VEVENT
UID:5980fcce-2fa7-49ce-be1b-eb86abffc37a
DTSTAMP:20260420T021536Z
CATEGORIES:Evenementen
CLASS:PUBLIC
DESCRIPTION;ALTREP="CID:<FFFF__=0ABBE548DFE235B58f9e8a93d@coffeebean.com>":
 Beste duikvrienden\, Ons jubileumjaar staat nadrukkelijk in het teken van 
 samen duiken. Op 22 maart gaan we dan ook met ruim 20 leden naar Todi. In 
 het weekend van 12 t/m 15 juni hebben we ons gebruikelijke Zeelandweekend.
  Nu nog EgypteUit jullie reacties is gebleken dat veel leden dit een mooi 
 initiatief vinden.Inmiddels hebben we een aanbieding van Eigenwijze Duikre
 izen voor een prachtige duikreis naar het resort Abu Dabba Dive Lodge.( ht
 tps://www.youtube.com/watch?v=PpNGxhzMgqY) Zoals in onze vorige nieuwsbrie
 f aangegeven zijn partners van onze leden van harte welkom om mee te gaan.
 Dit evenement vindt plaats van  6 t/m 13 november 2020.We gaan met een rec
 htstreekse (retour)vlucht van Düsseldorf naar Marsa Alam.De kosten voor de
 ze reis bedragen voor: duikers € 1.082\,- (p.p.) en voor niet duikers € 86
 7\,- (p.p).In aanvulling op deze aanbieding organiseren we ook een snorkel
 trip naar dolfijnen. Deze trip is wel afhankelijk  van het weer en er is g
 een garantie dat de dolfijnen op de bekende plek zijn. Van de aanbieding v
 an Eigenwijze Duikreizen (EWD) hebben we een link  bij deze mail gevoegd.h
 ttps://mcusercontent.com/07b9cdc5e9995a931e49ffd09/files/cd757f6b-faef-4a0
 4-a93f-8a49aa4e0a60/2020_02_19_Abu_Dabbab_Egypte_jubileumduikreis_Neptunes
 _6_13_november_2020.pdfOm tijdig stoelen in het vliegtuig te kunnen reserv
 eren is het van belang dat jullie je zo snel mogelijk aanmelden (het liefs
 t voor 1 maart 2020). Dit is ook van belang omdat EWD een voorbehoud maakt
  voor de kosten voor de vliegreis. De prijs is onder voorbehoud van beschi
 kbaarheid\, tussentijdse prijs- en schemawijzigingen en/of typefouten. Jul
 lie kunnen je aanmelden bij Paul (paul@horsthuis.nl). Door de aanbetaling 
 van 25% van de reissom (afgerond € 250) op de rekening van Neptunus over t
 e maken\, wordt jouw reservering definitief.(Rekening van Neptunus NL66ABN
 A0592474402 ovv Duikreis Neptunus naar Egypte.) Als je nog vragen hebt kun
  je die per mail stellen (paul@horsthuis.nl) of met Paul bellen (065120598
 6). We hopen op een grote deelname aan deze prachtige reis.En... om jullie
  helemáál enthousiast voor deze reis te krijgen deze prachtige film die bi
 j het resort is gemaakt. (  https://www.youtube.com/watch?v=7N2bjiIDx9I )M
 et hartelijke groet\,  Het organisatiecomité\, René Bijkerk. Herbert Wende
 r en Paul Horsthuis
DTSTART:20201106T040000Z
DTEND:20201111T230000Z
GEO:00;0
LOCATION:Egypte\, Abu Dabbab
ORGANIZER;CN=:paul@horsthuis.nl
SEQUENCE:1
SUMMARY:Duikreis Egypte Abu Dabbab (uitgesteld tot 2021 vanwege Covid 19)
TRANSP:OPAQUE
URL:https://owg-neptunus.nl/index.php/component/icagenda/552-duikreis-egypt
 e-abu-dabbab?Itemid=101
END:VEVENT
END:VCALENDAR
