BEGIN:VCALENDAR
VERSION:2.0
PRODID:-//Onderwatergroep Neptunus//NONSGML kigkonsult.se iCalcreator 2.30.
 10//
CALSCALE:GREGORIAN
METHOD:PUBLISH
UID:840406df-8356-46a6-93b5-32ec47848701
X-WR-CALNAME:iCagenda
X-WR-CALDESC:Event Management Extension for Joomla!
X-WR-RELCALID:3E26604A-50F4-4449-8B3E-E4F4932D05B5
X-WR-TIMEZONE:Europe/Amsterdam
BEGIN:VTIMEZONE
TZID:Europe/Amsterdam
BEGIN:STANDARD
TZNAME:CET
DTSTART:20191027T030000
TZOFFSETFROM:+0200
TZOFFSETTO:+0100
RDATE:20201025T030000
RDATE:20211031T030000
END:STANDARD
BEGIN:DAYLIGHT
TZNAME:CEST
DTSTART:20200329T020000
TZOFFSETFROM:+0100
TZOFFSETTO:+0200
RDATE:20210328T020000
END:DAYLIGHT
END:VTIMEZONE
BEGIN:VEVENT
UID:86604ac9-6690-4e46-9474-d005fa99b747
DTSTAMP:20260419T213810Z
CATEGORIES:Evenementen
CLASS:PUBLIC
DESCRIPTION:
DTSTART:20200612T090000Z
DTEND:20200615T100000Z
GEO:00;0
LOCATION:Witte Boulevard\, Renesse
ORGANIZER:
SEQUENCE:1
SUMMARY:Zeelandweekend 12 - 15 juni 2020
TRANSP:OPAQUE
URL:https://owg-neptunus.nl/index.php/component/icagenda/541-zeelandweekend
 -2020?Itemid=101
END:VEVENT
END:VCALENDAR
