BEGIN:VCALENDAR
VERSION:2.0
PRODID:-//Onderwatergroep Neptunus//NONSGML kigkonsult.se iCalcreator 2.30.
 10//
CALSCALE:GREGORIAN
METHOD:PUBLISH
UID:16d6987e-64b7-4521-aefd-db790e0536f9
X-WR-CALNAME:iCagenda
X-WR-CALDESC:Event Management Extension for Joomla!
X-WR-RELCALID:3E26604A-50F4-4449-8B3E-E4F4932D05B5
X-WR-TIMEZONE:Europe/Amsterdam
BEGIN:VTIMEZONE
TZID:Europe/Amsterdam
BEGIN:STANDARD
TZNAME:CET
DTSTART:20191027T030000
TZOFFSETFROM:+0200
TZOFFSETTO:+0100
RDATE:20201025T030000
END:STANDARD
BEGIN:DAYLIGHT
TZNAME:CEST
DTSTART:20190331T020000
TZOFFSETFROM:+0100
TZOFFSETTO:+0200
RDATE:20200329T020000
RDATE:20210328T020000
END:DAYLIGHT
END:VTIMEZONE
BEGIN:VEVENT
UID:02ef4fd9-ab07-402c-823e-c1d50945b542
DTSTAMP:20260419T200510Z
CATEGORIES:Doelgroepenbad
CLASS:PUBLIC
DESCRIPTION:
DTSTART:20200328T160000Z
DTEND:20200328T160100Z
GEO:00;0
LOCATION:Twentebad\, Hengelo
ORGANIZER:
SEQUENCE:1
SUMMARY:Geen training
TRANSP:OPAQUE
URL:https://owg-neptunus.nl/index.php/component/icagenda/540-snorkel-en-con
 ditietraining?Itemid=101
END:VEVENT
END:VCALENDAR
