BEGIN:VCALENDAR
VERSION:2.0
PRODID:-//Onderwatergroep Neptunus//NONSGML kigkonsult.se iCalcreator 2.30.
 10//
CALSCALE:GREGORIAN
METHOD:PUBLISH
UID:6b2cff2e-84e5-4b6f-b34b-be4e9705ff9f
X-WR-CALNAME:iCagenda
X-WR-CALDESC:Event Management Extension for Joomla!
X-WR-RELCALID:3E26604A-50F4-4449-8B3E-E4F4932D05B5
X-WR-TIMEZONE:Europe/Amsterdam
BEGIN:VTIMEZONE
TZID:Europe/Amsterdam
BEGIN:STANDARD
TZNAME:CET
DTSTART:20191027T030000
TZOFFSETFROM:+0200
TZOFFSETTO:+0100
RDATE:20201025T030000
END:STANDARD
BEGIN:DAYLIGHT
TZNAME:CEST
DTSTART:20190331T020000
TZOFFSETFROM:+0100
TZOFFSETTO:+0200
RDATE:20200329T020000
RDATE:20210328T020000
END:DAYLIGHT
END:VTIMEZONE
BEGIN:VEVENT
UID:884f3027-04cf-46fb-876a-df60f5e19e10
DTSTAMP:20260419T200333Z
CATEGORIES:Bestuur
CLASS:PUBLIC
DESCRIPTION;ALTREP="CID:<FFFF__=0ABBE548DFE235B58f9e8a93d@coffeebean.com>":
  \n \nBeste leden\,                                                       
                                           Hierbij nodig ik jullie van hart
 e uit voor de algemene ledenvergadering van OWG-Neptunus op: Datum: maanda
 g 2 maart 2020\; Tijd: 20.00 uur\; locatie:. Kulturhus Hasselo\, Henry Woo
 dstraat 62 7558 CP Hengelo.  Na afloop van deze vergadering verzorgt Eigen
 wijze Duikreizen een presentatie over onze voorgenomen duikvakantie naar E
 gypte. In verband hiermee zijn partners van leden die belangstelling hebbe
 n om met deze reis mee te gaan ook van harte uitgenodigd.  Wij ronden deze
  avond af met een drankje en bitterballen. Wij hopen op een grote opkomst!
  Willen jullie je via de website laten weten of je komt? (dat kan via tabb
 laden: Agenda - evenementen - algemene ledenvergadering - ik ga mee (groen
 e veld rechts bovenaan).)  Agenda: 1. Opening/vaststelling agenda 2. Meded
 elingen van het bestuur 3. Jaarstukken 2019 en begroting/beleid 2020 ter b
 espreking en vaststelling\n\nVerslag jaarvergadering 3 maart 2019 (bijlage
  1). Voorstel: na bespreking met inachtneming van de gemaakte opmerkingen 
 vast te stellen.  \nAlgemeen Jaarverslag bestuur 2019 (bijlage 2) Voorstel
 : na behandeling / bespreking met inachtneming van de gemaakte opmerkingen
  vast te stellen.\n\n\nBevindingen kascontrolecommissie (Bijlage 3) Marco 
 Gerritsen en Karel Versteeg vormden samen de kascontolecommissie Voorstel:
  na mondelinge toelichting en beantwoording van eventuele vragen met inste
 mming van de bevindingen kennis te nemen.\n\n\nFinancieel jaarverslag Nept
 unus 2019 (bijlage 4) Voorstel: na bespreking met inachtneming van de gema
 akte opmerkingen goed te keuren.\n\n\nSamenstelling kascontrolecommissie f
 inancieel verslag 2020 Er is 1 vacature voor een lid van deze commissie va
 cant. Indien leden hiervoor belangstelling hebben kunnen zij zich bij de s
 ecretaris aanmelden.   Voorstel: commissie leden: Karel Versteeg en een te
 r vergadering voor te dragen lid te benoemen.\n\n\nBegroting Neptunus 2020
  (bijlage 4) Voorstel: na behandeling / bespreking met inachtneming van de
  gemaakte opmerkingen goed te keuren.\n\n\nVerslag materialen 2019 en bele
 id 2020 (bijlage 5) Voorstel: na behandeling / bespreking met inachtneming
  van de gemaakte opmerkingen goed te keuren.\n\n\nVerslag Opleidingen 2019
  en beleid 2020 (bijlage 6) Voorstel: na behandeling / bespreking met inac
 htneming van de gemaakte opmerkingen goed te keuren.\nVerslag evenementenc
 ommissie 2019 (mondeling) en organisatie evenementen 2020 We zullen in ied
 er geval stilstaan bij ons 60-jarig jubileum (bijlage 7). Voorstel: na bes
 preking met instemming kennis te nemen van het verloop van de evenementen 
 2019 en initiatieven bij 60 jarig jubileum   \n\n\nVerkiezing / (her)benoe
 ming bestuursleden (bijlage 8) Zie Rooster van aftreden. Kandidaten kunnen
  zich uiterlijk tot 1 maart 2020 bij de secretaris melden. Indien leden be
 langstelling hebben om zich in te zetten voor bestuurstaken en /of eveneme
 nten horen we dat graag. Vanwege de continuïteit van onze vereniging is he
 t van belang om ook op de langere termijn leden te hebben die zich hiervoo
 r inzetten. Afhankelijk van de belangstelling kunnen zij meedraaien om inz
 icht te krijgen in de activiteiten en ervaring op te doen.  Voorstel: ter 
 vergadering status aanmeldingen bespreken en bestuursleden te (her)benoeme
 n.\n\n\nRondvraag / Wat verder ter tafel komt Indien er nog punten zijn di
 e ook besproken zouden moeten worden\, dan vernemen we dat graag geruime t
 ijd voorafgaande aan de vergadering.\n\n Presentatie Evenement Egypte (cir
 ca 20 minuten) Eind vorig jaar hebben we jullie belangstelling geïnventari
 seerd voor een duikreis naar Egypte. Daaruit is gebleken dat er voldoende 
 belangstelling is om deze reis te organiseren. Herbert Wender\, René Bijke
 rk en Paul Horsthuis hebben recentelijk over de data\, het wenselijke prog
 ramma en de kosten met Eigenwijze duikreizen (EWD) gesproken. In de week v
 an 10 februari verwachten wij een concreet voorstel van. EWD. Wij hebben h
 et aanbod van dit reisbureau\, om over deze reis tijdens de algemene leden
 vergadering een toelichting te geven\, graag aangenomen.  Informeel samenz
 ijn Na afloop van de vergadering drinken we graag met jullie een drankje i
 n de bar van het wijkcentrum. Het bestuur betaalt de bitterballen
DTSTART:20200302T190000Z
DTEND:20200302T203000Z
GEO:00;0
LOCATION:Henry Woodstraat 62\, Hengelo
ORGANIZER:
SEQUENCE:1
SUMMARY:Algemene ledenvergadering 2 maart 2020
TRANSP:OPAQUE
URL:https://owg-neptunus.nl/index.php/component/icagenda/538-algemene-leden
 vergadering?Itemid=101
END:VEVENT
END:VCALENDAR
