BEGIN:VCALENDAR
VERSION:2.0
PRODID:-//Onderwatergroep Neptunus//NONSGML kigkonsult.se iCalcreator 2.30.
 10//
CALSCALE:GREGORIAN
METHOD:PUBLISH
UID:c57368c3-84e0-4d10-a443-804aadb7ca59
X-WR-CALNAME:iCagenda
X-WR-CALDESC:Event Management Extension for Joomla!
X-WR-RELCALID:3E26604A-50F4-4449-8B3E-E4F4932D05B5
X-WR-TIMEZONE:Europe/Amsterdam
BEGIN:VTIMEZONE
TZID:Europe/Amsterdam
BEGIN:STANDARD
TZNAME:CET
DTSTART:20191027T030000
TZOFFSETFROM:+0200
TZOFFSETTO:+0100
RDATE:20201025T030000
END:STANDARD
BEGIN:DAYLIGHT
TZNAME:CEST
DTSTART:20190331T020000
TZOFFSETFROM:+0100
TZOFFSETTO:+0200
RDATE:20200329T020000
RDATE:20210328T020000
END:DAYLIGHT
END:VTIMEZONE
BEGIN:VEVENT
UID:92289166-70c3-4253-8a13-2b9aff7b0886
DTSTAMP:20260419T201219Z
CATEGORIES:Evenementen
CLASS:PUBLIC
DESCRIPTION;ALTREP="CID:<FFFF__=0ABBE548DFE235B58f9e8a93d@coffeebean.com>":
  \nBeste Duikvrienden\,\nWe hebben net van Todi het bericht gekregen dat z
 ij tot 4 april 220 vanwege het Coronavirus verplicht gesloten zijn.\nOns e
 venement kan daarom helaas niet doorgaan.\nDe zondagen in april daaropvolg
 end zijn al volgeboekt op het voor ons wenselijk ‘tijdslot’Wij stellen voo
 r om na de zomervakantie (eind augustus begin september) opnieuw te boeken
 .We komen hiervoor nog met een datumvoorstel.\nIndien jullie nog suggestie
 s hebben dan vernemen we dat graag.\nMet hartelijke groet\,\nJan Grob en P
 aul Horsthuis\n \n \nBeste duikvrienden\, We hebben veel positieve reactie
 s ontvangen op onze uitnodiging om een duik te maken bij TODI in het Belgi
 sche Beringen. We hebben dan ook besloten om dit evenement door te laten g
 aan. Ieder lid kan zich voor dit evenement aanmelden\, ook als je je nog n
 iet eerder hebt aangemeld. Hoe meer leden erbij zijn hoe leuker het is nat
 uurlijk. Familieleden die geen lid zijn\, zijn ook van harte welkom. Wel o
 p eigen kosten. Echter\, om te mogen duiken moeten ze wel een brevet hebbe
 n.  Nog even wat achtergrondinformatie over Todi. In dit bassin duik je in
 door als in een tropische rivier. Je duikt in water\, met een temperatuur 
 van 24 graden\, tussen autowrakken\, grotjes\, een mijngang en ‘s werelds 
 mooiste kleurrijke tropische zoetwatervissen. Het bassin is 10 meter diep.
  Dus een duik in warm water onder ideale omstandigheden. Alles is tot in d
 e puntjes geregeld\, van douches\, kleedruimten\, lockers en toiletvoorzie
 ningen tot materiaalverhuur en een uitstekend restaurant.  Praktische info
 rmatie: Datum: Zondag 22 maart 2020. Vertrek Hengelo: 8.00 uur\; vertrekpl
 aats: BWO Oldenzaalsestraat (tegenover China Tuin\; achterste parkeerplaat
 s). Vervoer: We gaan carpoolen. Graag aangeven of je zou willen rijden en 
 met hoeveel mensen je in de auto kunt. Materiaal: Todi verstrekt een duikf
 les\, trimvest en lood. Ander duikmateriaal moet je zelf meenemen. Vanwege
  de temperatuur wordt een neopreenpak van 5 tot 7 mm dikte aanbevolen. Zie
  voor meer informatie:  Kosten: Vanwege ons 60-jarig jubileum betaalt Nept
 unus de entreekosten € 37\,-. Kosten voor consumpties en lunch zijn voor e
 igen rekening. De kosten van vervoer stem je af met de chauffeur die de au
 to ter beschikking stelt en deel je met de andere mensen die meerijden. Aa
 nkomst Todi: circa 11.00 uur. Duiken: We proberen het tijdslot 12.00 uur t
 ot 14.00 uur te reserveren. Indien dit niet lukt proberen we het tijdslot 
 vanaf 13.00 uur. Hierna hebben we 2 uur toegang tot de zogenaamde ‘ ‘Exper
 ienceZone’. Indien je langer verblijft\, zijn daar extra kosten aan verbon
 den. Deze zijn dan voor eigen rekening. Lunch: vanaf 14.00 uur\; meer info
  over de Brasserie kun je vinden onder:  Indien we met 15 personen of meer
  zijn\, kunnen we gebruik maken van een aanbieding waarbij een ‘duiksessie
  en een heerlijke lunch (buffet)’ voor € 45 wordt aangeboden. Vertrek Todi
 : circa 15.00 uur. Terugkomst Hengelo: circa 18.00 uur. Warme maaltijd: vo
 or de liefhebbers die het leuk vinden om gezamenlijk (op eigen kosten) af 
 te ronden is het idee dat te doen bij China Tuin.  Aanmelding uiterlijk 1 
 februari 2020 Je kunt je per mail definitief aanmelden bij Paul Horsthuis 
 ( paul@horsthuis.nl ) Indien je nog iemand anders wilt meenemen\, geef dan
  even aan wie dat is en of deze persoon ook meeduikt. Bij de aanmelding oo
 k graag aangeven of je wilt rijden en andere leden zou willen meenemen? Af
 hankelijk van de aanmeldingen kunnen we de mensen over de auto’s verdelen.
  De deelnemers krijgen vlak voor 22 maart nadere informatie. Eventuele vra
 gen kun je aan Paul Horsthuis stellen.   Met hartelijke groet\, Het bestuu
 r  René Bijkerk\, Jan van Ommen\, Michel Leussink en Paul Horsthuis\nen Ja
 n Grob (initiatiefnemer)  
DTSTART:20200322T070000Z
DTEND:20200322T180000Z
GEO:00;0
LOCATION:Beringen\, België
ORGANIZER:
SEQUENCE:1
SUMMARY:Gecanceld evenement Todi Beringen België 22 maart 2020
TRANSP:OPAQUE
URL:https://owg-neptunus.nl/index.php/component/icagenda/537-egypte?Itemid=
 101
END:VEVENT
END:VCALENDAR
