BEGIN:VCALENDAR
VERSION:2.0
PRODID:-//Onderwatergroep Neptunus//NONSGML kigkonsult.se iCalcreator 2.30.
 10//
CALSCALE:GREGORIAN
METHOD:PUBLISH
UID:f9aed7ed-d852-44d8-9306-986ac7f53b43
X-WR-CALNAME:iCagenda
X-WR-CALDESC:Event Management Extension for Joomla!
X-WR-RELCALID:3E26604A-50F4-4449-8B3E-E4F4932D05B5
X-WR-TIMEZONE:Europe/Amsterdam
BEGIN:VTIMEZONE
TZID:Europe/Amsterdam
BEGIN:STANDARD
TZNAME:CET
DTSTART:20191027T030000
TZOFFSETFROM:+0200
TZOFFSETTO:+0100
RDATE:20201025T030000
END:STANDARD
BEGIN:DAYLIGHT
TZNAME:CEST
DTSTART:20190331T020000
TZOFFSETFROM:+0100
TZOFFSETTO:+0200
RDATE:20200329T020000
RDATE:20210328T020000
END:DAYLIGHT
END:VTIMEZONE
BEGIN:VEVENT
UID:d20970f1-3ba5-47ad-b35e-31386db42ae0
DTSTAMP:20260419T230407Z
CATEGORIES:Evenementen
CLASS:PUBLIC
DESCRIPTION;ALTREP="CID:<FFFF__=0ABBE548DFE235B58f9e8a93d@coffeebean.com>":
 Beste leden\,\nZoals te doen gebruikelijk organiseren we voor onze leden\,
  partners en kinderen op de eerste zondag in het nieuwe jaar een wandeling
 .\nEen mooi moment om elkaar het beste te wensen voor het nieuwe jaar en d
 e duikplannen voor het komende jaar met elkaar te bespreken.\nWe gaan een 
 wandeling rondom het Lonnekermeer maken. We kunnen daarbij extra genieten 
 van de natuur vanuit een speciaal uitzichtspunt over een meertje. Ook staa
 n er prachtige gedichten van Willem Wilmink op diverse punten langs de rou
 te. We verzamelen om 10.30 uur op het kruispunt Leutinkveldweg – Lonnekerm
 eerweg. Het voelt als een gebied in Hengelo maar volgens Google is het Ens
 chede. Parkeren kan langs de weg.  Honden kunnen niet overal loslopen. Nee
 m dus een riem mee. Tijdens de wandeling hebben we de bekende chocolademel
 k (met eventueel ‘extra inhoud’). En na het wandelen gaan we natuurlijk we
 er heerlijk pannenkoeken eten. We gaan naar Klein Afrika\, adres Oude Alme
 loseweg 6\, 7576 PE\, Oldenzaal. We denken daar ongeveer om 12.30 uur te z
 ijn. De niet-wandelaars die zich daarbij willen aansluiten\, zijn van hart
 elijk welkom. Om voldoende chocomelk en dergelijke mee te kunnen nemen en 
 plaatsen in het pannenkoekenrestaurant te kunnen reserveren\, is het handi
 g te laten weten of je komt en met hoeveel mensen. Dit kun je doorgeven aa
 n michel.leussink@gmail.com
DTSTART:20200105T093000Z
DTEND:20200105T123000Z
GEO:00;0
LOCATION:
ORGANIZER:
SEQUENCE:1
SUMMARY:Nieuwjaarswandeling 5 januari 2020
TRANSP:OPAQUE
URL:https://owg-neptunus.nl/index.php/component/icagenda/536-nieuwjaarswand
 eling-5-januari-2020?Itemid=101
END:VEVENT
END:VCALENDAR
