BEGIN:VCALENDAR
VERSION:2.0
PRODID:-//Onderwatergroep Neptunus//NONSGML kigkonsult.se iCalcreator 2.30.
 10//
CALSCALE:GREGORIAN
METHOD:PUBLISH
UID:d3eab04b-654b-409e-a470-4e7275224c48
X-WR-CALNAME:iCagenda
X-WR-CALDESC:Event Management Extension for Joomla!
X-WR-RELCALID:3E26604A-50F4-4449-8B3E-E4F4932D05B5
X-WR-TIMEZONE:Europe/Amsterdam
BEGIN:VTIMEZONE
TZID:Europe/Amsterdam
BEGIN:STANDARD
TZNAME:CET
DTSTART:20181028T030000
TZOFFSETFROM:+0200
TZOFFSETTO:+0100
RDATE:20191027T030000
RDATE:20201025T030000
END:STANDARD
BEGIN:DAYLIGHT
TZNAME:CEST
DTSTART:20190331T020000
TZOFFSETFROM:+0100
TZOFFSETTO:+0200
RDATE:20200329T020000
RDATE:20210328T020000
END:DAYLIGHT
END:VTIMEZONE
BEGIN:VEVENT
UID:9c6ab77b-1f20-4bea-806e-145b108eb91c
DTSTAMP:20260420T032729Z
CATEGORIES:Duiken
CLASS:PUBLIC
DESCRIPTION:
DTSTART:20191006T080000Z
DTEND:20191006T100000Z
GEO:+52.117996;+6.214786
LOCATION:Bronsbergenmeer Noord
ORGANIZER:
SEQUENCE:1
SUMMARY:Buitenduik Bronsbergenmeer Noord
TRANSP:OPAQUE
URL:https://owg-neptunus.nl/index.php/component/icagenda/523-buitenduik-bro
 nsbergenmeer?Itemid=101
END:VEVENT
END:VCALENDAR
