BEGIN:VCALENDAR
VERSION:2.0
PRODID:-//Onderwatergroep Neptunus//NONSGML kigkonsult.se iCalcreator 2.30.
 10//
CALSCALE:GREGORIAN
METHOD:PUBLISH
UID:f7a4ac1d-c5dc-400c-9173-55677cc38fc7
X-WR-CALNAME:iCagenda
X-WR-CALDESC:Event Management Extension for Joomla!
X-WR-RELCALID:3E26604A-50F4-4449-8B3E-E4F4932D05B5
X-WR-TIMEZONE:Europe/Amsterdam
BEGIN:VTIMEZONE
TZID:Europe/Amsterdam
BEGIN:STANDARD
TZNAME:CET
DTSTART:20181028T030000
TZOFFSETFROM:+0200
TZOFFSETTO:+0100
RDATE:20191027T030000
RDATE:20201025T030000
END:STANDARD
BEGIN:DAYLIGHT
TZNAME:CEST
DTSTART:20190331T020000
TZOFFSETFROM:+0100
TZOFFSETTO:+0200
RDATE:20200329T020000
RDATE:20210328T020000
END:DAYLIGHT
END:VTIMEZONE
BEGIN:VEVENT
UID:99dccbc6-1b5c-4c92-b157-27085cf79b39
DTSTAMP:20260420T032216Z
CATEGORIES:Evenementen
CLASS:PUBLIC
DESCRIPTION;ALTREP="CID:<FFFF__=0ABBE548DFE235B58f9e8a93d@coffeebean.com>":
 \n27 oktober a.s. vindt het jaarfeest 2019 plaats. Kom allemaal en geniet 
 van muziek\, animatie\, drankjes en een heerlijk spaans buffet. Alleen de 
 drankjes zijn voor eigen rekening. Neem vooral je partner\, vriend of vrie
 ndin mee en meld je aan. Laat tevens weten met hoeveel personen je komt.
DTSTART:20191027T143000Z
DTEND:20191027T183000Z
GEO:+52.279831;+6.829913
LOCATION:Bartelinkslaantje 21\; Hengelo
ORGANIZER:
SEQUENCE:1
SUMMARY:Jaarfeest Neptunus
TRANSP:OPAQUE
URL:https://owg-neptunus.nl/index.php/component/icagenda/505-jaarfeest?Item
 id=101
END:VEVENT
END:VCALENDAR
