BEGIN:VCALENDAR
VERSION:2.0
PRODID:-//Onderwatergroep Neptunus//NONSGML kigkonsult.se iCalcreator 2.30.
 10//
CALSCALE:GREGORIAN
METHOD:PUBLISH
UID:d44ab596-52cf-4b74-afa8-8eb1019d72d4
X-WR-CALNAME:iCagenda
X-WR-CALDESC:Event Management Extension for Joomla!
X-WR-RELCALID:3E26604A-50F4-4449-8B3E-E4F4932D05B5
X-WR-TIMEZONE:Europe/Amsterdam
BEGIN:VTIMEZONE
TZID:Europe/Amsterdam
BEGIN:STANDARD
TZNAME:CET
DTSTART:20181028T030000
TZOFFSETFROM:+0200
TZOFFSETTO:+0100
RDATE:20191027T030000
RDATE:20201025T030000
END:STANDARD
BEGIN:DAYLIGHT
TZNAME:CEST
DTSTART:20190331T020000
TZOFFSETFROM:+0100
TZOFFSETTO:+0200
RDATE:20200329T020000
END:DAYLIGHT
END:VTIMEZONE
BEGIN:VEVENT
UID:3d9e3d9c-3b6a-491d-b325-fc1c29820168
DTSTAMP:20260419T225035Z
CATEGORIES:Doelgroepenbad Belangrijk
CLASS:PUBLIC
DESCRIPTION;ALTREP="CID:<FFFF__=0ABBE548DFE235B58f9e8a93d@coffeebean.com>":
 Er worden ongeveer 20 leerlingen van 't Assink verwacht. We beginnen om 17
 .00 uur omdat het Startblok uiterlijk 19.00 uur sluit.Introductieduik zal 
 in twee groepen plaatsvinden.Dit is de laatste training voor de zomervakan
 tie. Na afloop ronden we het seizoen af met een patatje en drankje in het 
 Startblok.
DTSTART:20190629T150000Z
DTEND:20190629T160000Z
GEO:00;0
LOCATION:Twentebad
ORGANIZER:
SEQUENCE:1
SUMMARY:Zwembadtraining/Introductieduik 't Assink
TRANSP:OPAQUE
URL:https://owg-neptunus.nl/index.php/component/icagenda/498-zwembadtrainin
 g-introductieduik-t-assink?Itemid=101
END:VEVENT
END:VCALENDAR
