BEGIN:VCALENDAR
VERSION:2.0
PRODID:-//Onderwatergroep Neptunus//NONSGML kigkonsult.se iCalcreator 2.30.
 10//
CALSCALE:GREGORIAN
METHOD:PUBLISH
UID:79647de1-881d-4945-bcc5-da9c9f00841d
X-WR-CALNAME:iCagenda
X-WR-CALDESC:Event Management Extension for Joomla!
X-WR-RELCALID:3E26604A-50F4-4449-8B3E-E4F4932D05B5
X-WR-TIMEZONE:Europe/Amsterdam
BEGIN:VTIMEZONE
TZID:Europe/Amsterdam
BEGIN:STANDARD
TZNAME:CET
DTSTART:20181028T030000
TZOFFSETFROM:+0200
TZOFFSETTO:+0100
RDATE:20191027T030000
RDATE:20201025T030000
END:STANDARD
BEGIN:DAYLIGHT
TZNAME:CEST
DTSTART:20190331T020000
TZOFFSETFROM:+0100
TZOFFSETTO:+0200
RDATE:20200329T020000
END:DAYLIGHT
END:VTIMEZONE
BEGIN:VEVENT
UID:7e420d97-0fde-4173-a988-3c3169097fa4
DTSTAMP:20260419T230925Z
CATEGORIES:Duiken
CLASS:PUBLIC
DESCRIPTION:
DTSTART:20190602T080000Z
DTEND:20190602T100000Z
GEO:00;0
LOCATION:Grasbroekweg 1: Bornebroek
ORGANIZER:
SEQUENCE:1
SUMMARY:Buitenduik Grasbroek
TRANSP:OPAQUE
URL:https://owg-neptunus.nl/index.php/component/icagenda/491-buitenduik-gra
 sbroek?Itemid=101
END:VEVENT
END:VCALENDAR
