BEGIN:VCALENDAR
VERSION:2.0
PRODID:-//Onderwatergroep Neptunus//NONSGML kigkonsult.se iCalcreator 2.30.
 10//
CALSCALE:GREGORIAN
METHOD:PUBLISH
UID:bc31c8f9-6914-47e6-9641-fd90c83c9fb8
X-WR-CALNAME:iCagenda
X-WR-CALDESC:Event Management Extension for Joomla!
X-WR-RELCALID:3E26604A-50F4-4449-8B3E-E4F4932D05B5
X-WR-TIMEZONE:Europe/Amsterdam
BEGIN:VTIMEZONE
TZID:Europe/Amsterdam
BEGIN:STANDARD
TZNAME:CET
DTSTART:20181028T030000
TZOFFSETFROM:+0200
TZOFFSETTO:+0100
RDATE:20191027T030000
RDATE:20201025T030000
END:STANDARD
BEGIN:DAYLIGHT
TZNAME:CEST
DTSTART:20190331T020000
TZOFFSETFROM:+0100
TZOFFSETTO:+0200
RDATE:20200329T020000
END:DAYLIGHT
END:VTIMEZONE
BEGIN:VEVENT
UID:46e25bf0-6216-4aad-9eb8-96f7b7fed139
DTSTAMP:20260419T212603Z
CATEGORIES:Duiken
CLASS:PUBLIC
DESCRIPTION:
DTSTART:20190505T080000Z
DTEND:20190505T100000Z
GEO:00;0
LOCATION:Bronsbergen 25\, Zutphen
ORGANIZER:
SEQUENCE:1
SUMMARY:Buitenduik Bronsbergermeer
TRANSP:OPAQUE
URL:https://owg-neptunus.nl/index.php/component/icagenda/487-buitenduik-bro
 nsbergermeer?Itemid=101
END:VEVENT
END:VCALENDAR
