BEGIN:VCALENDAR
VERSION:2.0
PRODID:-//Onderwatergroep Neptunus//NONSGML kigkonsult.se iCalcreator 2.30.
 10//
CALSCALE:GREGORIAN
METHOD:PUBLISH
UID:78f752a1-8772-4036-b0e8-ba3f93a139d5
X-WR-CALNAME:iCagenda
X-WR-CALDESC:Event Management Extension for Joomla!
X-WR-RELCALID:3E26604A-50F4-4449-8B3E-E4F4932D05B5
X-WR-TIMEZONE:Europe/Amsterdam
BEGIN:VTIMEZONE
TZID:Europe/Amsterdam
BEGIN:STANDARD
TZNAME:CET
DTSTART:20181028T030000
TZOFFSETFROM:+0200
TZOFFSETTO:+0100
RDATE:20191027T030000
RDATE:20201025T030000
END:STANDARD
BEGIN:DAYLIGHT
TZNAME:CEST
DTSTART:20190331T020000
TZOFFSETFROM:+0100
TZOFFSETTO:+0200
RDATE:20200329T020000
END:DAYLIGHT
END:VTIMEZONE
BEGIN:VEVENT
UID:9db65d3a-1736-4797-bb58-46baa81ed922
DTSTAMP:20260419T213310Z
CATEGORIES:Bestuur
CLASS:PUBLIC
DESCRIPTION;ALTREP="CID:<FFFF__=0ABBE548DFE235B58f9e8a93d@coffeebean.com>":
 Beste leden\,\nIn de algemene ledenvergadering is stilgestaan bij het 60-j
 arig bestaan van onze duikvereniging in 2020. Daarbij is gebleken dat we g
 raag samen met de leden over een bij dit jubileum passend programma willen
  nadenken. Daarvoor nodigen we iedereen van harte uit op 18 mei 2019 na af
 loop van de training in het Startblok. Onder het genot van een patatje\, i
 ets daarbij en een drankje  verwachten we dat we met elkaar inspirerende i
 deeën krijgen waar we na de zomervakantie mee aan de slag kunnen.We hopen 
 op een prachtige invulling van ons jubileumjaar.\nVanwege te weinig aanmel
 dingen voor deze bijeenkomst hebben we via onze nieuwsbrief van mei jullie
  gevraagd om per mail ideeën in te dienen.\nhet organisatiecomité voor 18 
 mei 2019\,\n \nHerbert Wender en Paul Horsthuis
DTSTART:20190518T164500Z
DTEND:20190518T173000Z
GEO:+52.281548;+6.801395
LOCATION:Startblok\, restaurant naast het zwembad
ORGANIZER:
SEQUENCE:1
SUMMARY:Vervallen: Brainstorm 60 jarig jubileum Neptunus
TRANSP:OPAQUE
URL:https://owg-neptunus.nl/index.php/component/icagenda/485-brainstorm-60-
 jarig-jubileum?Itemid=101
END:VEVENT
END:VCALENDAR
