BEGIN:VCALENDAR
VERSION:2.0
PRODID:-//Onderwatergroep Neptunus//NONSGML kigkonsult.se iCalcreator 2.30.
 10//
CALSCALE:GREGORIAN
METHOD:PUBLISH
UID:b53c32fc-0b8d-4387-9876-fde35efeb8ad
X-WR-CALNAME:iCagenda
X-WR-CALDESC:Event Management Extension for Joomla!
X-WR-RELCALID:3E26604A-50F4-4449-8B3E-E4F4932D05B5
X-WR-TIMEZONE:Europe/Amsterdam
BEGIN:VTIMEZONE
TZID:Europe/Amsterdam
BEGIN:STANDARD
TZNAME:CET
DTSTART:20181028T030000
TZOFFSETFROM:+0200
TZOFFSETTO:+0100
RDATE:20191027T030000
END:STANDARD
BEGIN:DAYLIGHT
TZNAME:CEST
DTSTART:20190331T020000
TZOFFSETFROM:+0100
TZOFFSETTO:+0200
RDATE:20200329T020000
END:DAYLIGHT
END:VTIMEZONE
BEGIN:VEVENT
UID:9f29a15e-9b80-402d-8b64-b9b51aa0b69f
DTSTAMP:20260419T201519Z
CATEGORIES:Duiken
CLASS:PUBLIC
DESCRIPTION:
DTSTART:20190422T080000Z
DTEND:20190422T100000Z
GEO:+52.296303;+6.645184
LOCATION:Grasbroek\; Grasbroekweg 1\, 7627 RC Bornerbroek
ORGANIZER:
SEQUENCE:1
SUMMARY:1e buitenduik / paasduik
TRANSP:OPAQUE
URL:https://owg-neptunus.nl/index.php/component/icagenda/484-1e-buitenduik-
 paasduik?Itemid=101
END:VEVENT
END:VCALENDAR
